BEGIN:VCALENDAR
VERSION:2.0
PRODID:-//Gratis Uppsala - ECPv5.2.1//NONSGML v1.0//EN
CALSCALE:GREGORIAN
METHOD:PUBLISH
X-WR-CALNAME:Gratis Uppsala
X-ORIGINAL-URL:https://arkiv.gratisuppsala.se
X-WR-CALDESC:Händelser för Gratis Uppsala
BEGIN:VTIMEZONE
TZID:Europe/Stockholm
BEGIN:DAYLIGHT
TZOFFSETFROM:+0100
TZOFFSETTO:+0200
TZNAME:CEST
DTSTART:20160327T010000
END:DAYLIGHT
BEGIN:STANDARD
TZOFFSETFROM:+0200
TZOFFSETTO:+0100
TZNAME:CET
DTSTART:20161030T010000
END:STANDARD
END:VTIMEZONE
BEGIN:VEVENT
DTSTART;TZID=Europe/Stockholm:20160420T100000
DTEND;TZID=Europe/Stockholm:20160420T173000
DTSTAMP:20260421T090015
CREATED:20160412T080847Z
LAST-MODIFIED:20160412T080847Z
UID:6716-1461146400-1461173400@arkiv.gratisuppsala.se
SUMMARY:Heldag om traumamedveten skola\, hälsovård och omsorg
DESCRIPTION:Barnskyddsrådet i Uppsala län bjuder in till ett kostnadsfri heldagssymposium. \nPlats: Grönwallsalen\, ing 70\, Akademiska Sjukhuset \nDela evenemanget
URL:https://arkiv.gratisuppsala.se/event/heldag-om-traumamedveten-skola-halsovard-och-omsorg/
CATEGORIES:Föreläsning och Kurs,Kropp och Själ
END:VEVENT
END:VCALENDAR