BEGIN:VCALENDAR
VERSION:2.0
PRODID:-//Gratis Uppsala - ECPv5.2.1//NONSGML v1.0//EN
CALSCALE:GREGORIAN
METHOD:PUBLISH
X-WR-CALNAME:Gratis Uppsala
X-ORIGINAL-URL:https://arkiv.gratisuppsala.se
X-WR-CALDESC:Händelser för Gratis Uppsala
BEGIN:VTIMEZONE
TZID:Europe/Stockholm
BEGIN:DAYLIGHT
TZOFFSETFROM:+0100
TZOFFSETTO:+0200
TZNAME:CEST
DTSTART:20160327T010000
END:DAYLIGHT
BEGIN:STANDARD
TZOFFSETFROM:+0200
TZOFFSETTO:+0100
TZNAME:CET
DTSTART:20161030T010000
END:STANDARD
END:VTIMEZONE
BEGIN:VEVENT
DTSTART;TZID=Europe/Stockholm:20160312T100000
DTEND;TZID=Europe/Stockholm:20160312T150000
DTSTAMP:20260421T185143
CREATED:20160309T102058Z
LAST-MODIFIED:20160309T102058Z
UID:6418-1457776800-1457794800@arkiv.gratisuppsala.se
SUMMARY:Hitta bästa böckerna!
DESCRIPTION:Hitta bästa böckerna! Lördag 12 mars kl 11 visar personalen hur du hittar på Gottsundabiblioteket och tipsar om bra böcker för dig som är 6-12 år. \nBiblioteket är öppet 10-15 på lördag. \nGratis! \nBild: pixabay.com. \nDela evenemanget
URL:https://arkiv.gratisuppsala.se/event/hitta-basta-bockerna/
LOCATION:Gottsundabiblioteket\, Valthornsvägen 11\, Uppsala\, 756 50 \, Sverige
ATTACH;FMTTYPE=image/jpeg:https://arkiv.gratisuppsala.se/wp-content/uploads/2016/03/hitta_boken.jpg
ORGANIZER;CN="Bibliotek%20Uppsala":MAILTO:kundtjanst@bibliotekuppsala.se
GEO:59.8093409;17.6295555
X-APPLE-STRUCTURED-LOCATION;VALUE=URI;X-ADDRESS=Gottsundabiblioteket Valthornsvägen 11 Uppsala 756 50  Sverige;X-APPLE-RADIUS=500;X-TITLE=Valthornsvägen 11:geo:17.6295555,59.8093409
END:VEVENT
END:VCALENDAR