BEGIN:VCALENDAR
VERSION:2.0
PRODID:-//Gratis Uppsala - ECPv5.2.1//NONSGML v1.0//EN
CALSCALE:GREGORIAN
METHOD:PUBLISH
X-WR-CALNAME:Gratis Uppsala
X-ORIGINAL-URL:https://arkiv.gratisuppsala.se
X-WR-CALDESC:Händelser för Gratis Uppsala
BEGIN:VTIMEZONE
TZID:Europe/Stockholm
BEGIN:DAYLIGHT
TZOFFSETFROM:+0100
TZOFFSETTO:+0200
TZNAME:CEST
DTSTART:20180325T010000
END:DAYLIGHT
BEGIN:STANDARD
TZOFFSETFROM:+0200
TZOFFSETTO:+0100
TZNAME:CET
DTSTART:20181028T010000
END:STANDARD
END:VTIMEZONE
BEGIN:VEVENT
DTSTART;TZID=Europe/Stockholm:20180122T163000
DTEND;TZID=Europe/Stockholm:20180122T184500
DTSTAMP:20260420T143640
CREATED:20180119T085247Z
LAST-MODIFIED:20180119T085546Z
UID:21937-1516638600-1516646700@arkiv.gratisuppsala.se
SUMMARY:Hjälp med läxorna?
DESCRIPTION:Hjälp med läxorna?\nHjälp med läxorna? Help with your homework? \nKom till Heby bibliotek måndagar 16.30-18.45. Här träffar du engagerade vuxna som hjälper dig med dina läxor. Du behöver inte anmäla dig\, det är bara att dyka upp någon gång under den utsatta tiden. \nVälkommen\, önskar Heby bibliotek i samarbete med CLL \nBild från:Pixabay.com\n Dela evenemanget
URL:https://arkiv.gratisuppsala.se/event/hjalp-med-laxorna-2/2018-01-22/
LOCATION:Heby bibliotek\, Kyrkogatan 2\, Heby
CATEGORIES:Kunskap och Lärande,Litteratur och Poesi,Vuxen
ATTACH;FMTTYPE=image/jpeg:https://arkiv.gratisuppsala.se/wp-content/uploads/2018/01/people-2557399_640.jpg
GEO:59.9388991;16.8602971
X-APPLE-STRUCTURED-LOCATION;VALUE=URI;X-ADDRESS=Heby bibliotek Kyrkogatan 2 Heby;X-APPLE-RADIUS=500;X-TITLE=Kyrkogatan 2:geo:16.8602971,59.9388991
END:VEVENT
END:VCALENDAR