BEGIN:VCALENDAR
VERSION:2.0
PRODID:-//Gratis Uppsala - ECPv5.2.1//NONSGML v1.0//EN
CALSCALE:GREGORIAN
METHOD:PUBLISH
X-WR-CALNAME:Gratis Uppsala
X-ORIGINAL-URL:https://arkiv.gratisuppsala.se
X-WR-CALDESC:Händelser för Gratis Uppsala
BEGIN:VTIMEZONE
TZID:Europe/Stockholm
BEGIN:DAYLIGHT
TZOFFSETFROM:+0100
TZOFFSETTO:+0200
TZNAME:CEST
DTSTART:20170326T010000
END:DAYLIGHT
BEGIN:STANDARD
TZOFFSETFROM:+0200
TZOFFSETTO:+0100
TZNAME:CET
DTSTART:20171029T010000
END:STANDARD
END:VTIMEZONE
BEGIN:VEVENT
DTSTART;TZID=Europe/Stockholm:20170118T173000
DTEND;TZID=Europe/Stockholm:20170118T193000
DTSTAMP:20260421T124355
CREATED:20170116T140609Z
LAST-MODIFIED:20170118T111307Z
UID:10600-1484760600-1484767800@arkiv.gratisuppsala.se
SUMMARY:Hjärtföreläsning
DESCRIPTION:Hjärtföreläsning med Ingrid Ljungvall och Jens Häggström\nVeterinärmedicinska Föreningen önskar välkomna till en extra hjärtföreläsning med Ingrid Ljungvall och Jens Häggström för Wundervets och Vet-X. Föreläsningen är ett komplement till föreläsningarna under den klinikförberedande kursen.\nEvenemanget är GRATIS! (Det har i efterhand (från en annan hemsida) meddelats att föreläsningen kostar 20 kr\, så tyvärr dubbla budskap om kostnaden) \nFöranmälan krävs\, gå in på eventets hemsida här och klicka på “kommer”. \nDela evenemanget
URL:https://arkiv.gratisuppsala.se/event/hjartforelasning/
LOCATION:VHC – Veterinärmedicinskt och Husdjursvetenskapligt centrum\, Ulls väg 26\, Uppsala\, Sverige
CATEGORIES:Föreläsning och Kurs,Kropp och Själ,Kunskap och Lärande
ATTACH;FMTTYPE=image/jpeg:https://arkiv.gratisuppsala.se/wp-content/uploads/2017/01/Hjärta-ekg.jpg
ORGANIZER;CN="Veterin%C3%A4rmedicinska%20F%C3%B6reningen":MAILTO: info@vmf.se
GEO:59.8150537;17.659248
X-APPLE-STRUCTURED-LOCATION;VALUE=URI;X-ADDRESS=VHC – Veterinärmedicinskt och Husdjursvetenskapligt centrum Ulls väg 26 Uppsala Sverige;X-APPLE-RADIUS=500;X-TITLE=Ulls väg 26:geo:17.659248,59.8150537
END:VEVENT
END:VCALENDAR