BEGIN:VCALENDAR
VERSION:2.0
PRODID:-//Gratis Uppsala - ECPv5.2.1//NONSGML v1.0//EN
CALSCALE:GREGORIAN
METHOD:PUBLISH
X-WR-CALNAME:Gratis Uppsala
X-ORIGINAL-URL:https://arkiv.gratisuppsala.se
X-WR-CALDESC:Händelser för Gratis Uppsala
BEGIN:VTIMEZONE
TZID:Europe/Stockholm
BEGIN:DAYLIGHT
TZOFFSETFROM:+0100
TZOFFSETTO:+0200
TZNAME:CEST
DTSTART:20170326T010000
END:DAYLIGHT
BEGIN:STANDARD
TZOFFSETFROM:+0200
TZOFFSETTO:+0100
TZNAME:CET
DTSTART:20171029T010000
END:STANDARD
END:VTIMEZONE
BEGIN:VEVENT
DTSTART;TZID=Europe/Stockholm:20170123T170000
DTEND;TZID=Europe/Stockholm:20170123T190000
DTSTAMP:20260420T193204
CREATED:20161214T105614Z
LAST-MODIFIED:20161214T105826Z
UID:9814-1485190800-1485198000@arkiv.gratisuppsala.se
SUMMARY:Högläsning=Gemenskap
DESCRIPTION:Välkommen till Knivsta Bibliotek måndag 23 januari. Då håller läsambassadören Anne-Marie Körling efter föredrag om betydelsen av högläsning. Vi bjuder på smörgås och te. \nVälkommen Du som är förälder\, pedagog eller allmänt intresserad! \nPlatserna är begränsade så glöm ej att föranmäla på mail knivstabibliotek@knivsta.se. \nNär: måndag 23 januari kl. 17-19. \nVar: Aktivitetsrummet\, Knivsta Bibliotek. \n  \nKälla: flickr.com \n  \nDela evenemanget
URL:https://arkiv.gratisuppsala.se/event/hoglasninggemenskap/
LOCATION:Knivsta Bibliotek\, Centralvägen 18\, Knivsta\, Knivsta\, 74140\, Sverige
CATEGORIES:Föreläsning och Kurs,Litteratur och Poesi
ATTACH;FMTTYPE=image/jpeg:https://arkiv.gratisuppsala.se/wp-content/uploads/2016/12/högläsning.jpg
ORGANIZER;CN="Knivsta%20bibliotek":MAILTO:knivstabibliotek@knivsta.se
GEO:59.7276919;17.7857802
X-APPLE-STRUCTURED-LOCATION;VALUE=URI;X-ADDRESS=Knivsta Bibliotek Centralvägen 18 Knivsta Knivsta 74140 Sverige;X-APPLE-RADIUS=500;X-TITLE=Centralvägen 18:geo:17.7857802,59.7276919
END:VEVENT
END:VCALENDAR