BEGIN:VCALENDAR
VERSION:2.0
PRODID:-//Gratis Uppsala - ECPv5.2.1//NONSGML v1.0//EN
CALSCALE:GREGORIAN
METHOD:PUBLISH
X-WR-CALNAME:Gratis Uppsala
X-ORIGINAL-URL:https://arkiv.gratisuppsala.se
X-WR-CALDESC:Händelser för Gratis Uppsala
BEGIN:VTIMEZONE
TZID:Europe/Stockholm
BEGIN:DAYLIGHT
TZOFFSETFROM:+0100
TZOFFSETTO:+0200
TZNAME:CEST
DTSTART:20170326T010000
END:DAYLIGHT
BEGIN:STANDARD
TZOFFSETFROM:+0200
TZOFFSETTO:+0100
TZNAME:CET
DTSTART:20171029T010000
END:STANDARD
END:VTIMEZONE
BEGIN:VEVENT
DTSTART;TZID=Europe/Stockholm:20171101T130000
DTEND;TZID=Europe/Stockholm:20171101T140000
DTSTAMP:20260420T162835
CREATED:20171018T060916Z
LAST-MODIFIED:20171018T060916Z
UID:19424-1509541200-1509544800@arkiv.gratisuppsala.se
SUMMARY:Höstlov: Kommissarie Gordon - en teaterföreställning för hela familjen
DESCRIPTION:Kom och se Kommissarie Gordon – en spännande och visuell teaterföreställning\n\n\n\n\n\nKommissarie Gordon är en livsnjutare med tydliga visioner om en bättre värld. En spännande och visuell teaterföreställning med Teater Pero. Föreställningen har filmade inslag och skön musik\, allt skapat live inför den unga publiken. Efter en bok av Ulf Nilsson. Arrangör är Kultur och konstenheten upplevelseförvaltningen\, Enköpings kommun. Välkomna! \n\n\n\n\n\n\n\n\n\n\nFör vem? Familjeföreställning för barn ca 4-9 år. \nNär? Kl. 13.00- 14.00 \nVar? Joar Blå\, Ågatan 29\, Enköping \nFri entré men grupper bokar plats till Inger Svensson telefon 0171-62 56 30\, e-post inger.svensson@enkoping.se \nLäs mer om föreställningen på Upplev Enköpings webbplats \nFoto: Teater Pero \n\n\n\n\n\n Dela evenemanget
URL:https://arkiv.gratisuppsala.se/event/hostlov-kommissarie-gordon-teaterforestallning/
LOCATION:Joar Blå\, Ågatan 29\, Enköping\, 74535\, Sverige
CATEGORIES:Höstlov,Teater och Bio
ATTACH;FMTTYPE=image/jpeg:https://arkiv.gratisuppsala.se/wp-content/uploads/2017/10/Kommissarie_Gordon_foto_Teater_Pero-e1508310374495.jpg
GEO:59.6338936;17.0735197
X-APPLE-STRUCTURED-LOCATION;VALUE=URI;X-ADDRESS=Joar Blå Ågatan 29 Enköping 74535 Sverige;X-APPLE-RADIUS=500;X-TITLE=Ågatan 29:geo:17.0735197,59.6338936
END:VEVENT
END:VCALENDAR