BEGIN:VCALENDAR
VERSION:2.0
PRODID:-//Gratis Uppsala - ECPv5.2.1//NONSGML v1.0//EN
CALSCALE:GREGORIAN
METHOD:PUBLISH
X-WR-CALNAME:Gratis Uppsala
X-ORIGINAL-URL:https://arkiv.gratisuppsala.se
X-WR-CALDESC:Händelser för Gratis Uppsala
BEGIN:VTIMEZONE
TZID:Europe/Stockholm
BEGIN:DAYLIGHT
TZOFFSETFROM:+0100
TZOFFSETTO:+0200
TZNAME:CEST
DTSTART:20160327T010000
END:DAYLIGHT
BEGIN:STANDARD
TZOFFSETFROM:+0200
TZOFFSETTO:+0100
TZNAME:CET
DTSTART:20161030T010000
END:STANDARD
END:VTIMEZONE
BEGIN:VEVENT
DTSTART;TZID=Europe/Stockholm:20160416T103000
DTEND;TZID=Europe/Stockholm:20160411T180000
DTSTAMP:20260422T024739
CREATED:20160411T075944Z
LAST-MODIFIED:20160411T075944Z
UID:6695-1460802600-1460397600@arkiv.gratisuppsala.se
SUMMARY:Huggormssafari i Hågadalen
DESCRIPTION:Huggormssafari i Hågadalen lördag 16 april. \nSamling kl 9.30 parkeringen vid Pattons hage\, Vårdsätravägen strax efter Hugo Alvéns väg.\n(Se kartan sid 3 här.)\nOBS Preliminär tid!  För att det ska vara säkert att ormarna är framme lämnas definitiva uppgifter om dag och tid på Naturskyddsföreningens webbsida eller deras Facebook-sida. \nAnmälan till Boel Vallgårda på telefon 070-312 40 89\, då får du sms med besked om tiden/dagen ändras. \nBild: wikipedia.org. \nDela evenemanget
URL:https://arkiv.gratisuppsala.se/event/huggormssafari-i-hagadalen/
LOCATION:Pattons Hage\, parkeringen\, Vårdsätravägen\, Uppsala\, 75646\, Sverige
ATTACH;FMTTYPE=image/jpeg:https://arkiv.gratisuppsala.se/wp-content/uploads/2016/04/huggorm.jpg
ORGANIZER;CN="Naturskyddsf%C3%B6reningen%20Uppsala%20l%C3%A4n":MAILTO:kansli.uppsala@naturskyddsforeningen.se
GEO:59.8219308;17.6244464
X-APPLE-STRUCTURED-LOCATION;VALUE=URI;X-ADDRESS=Pattons Hage parkeringen Vårdsätravägen Uppsala 75646 Sverige;X-APPLE-RADIUS=500;X-TITLE=Vårdsätravägen:geo:17.6244464,59.8219308
END:VEVENT
END:VCALENDAR