BEGIN:VCALENDAR
VERSION:2.0
PRODID:-//Gratis Uppsala - ECPv5.2.1//NONSGML v1.0//EN
CALSCALE:GREGORIAN
METHOD:PUBLISH
X-WR-CALNAME:Gratis Uppsala
X-ORIGINAL-URL:https://arkiv.gratisuppsala.se
X-WR-CALDESC:Händelser för Gratis Uppsala
BEGIN:VTIMEZONE
TZID:Europe/Stockholm
BEGIN:DAYLIGHT
TZOFFSETFROM:+0100
TZOFFSETTO:+0200
TZNAME:CEST
DTSTART:20160327T010000
END:DAYLIGHT
BEGIN:STANDARD
TZOFFSETFROM:+0200
TZOFFSETTO:+0100
TZNAME:CET
DTSTART:20161030T010000
END:STANDARD
END:VTIMEZONE
BEGIN:VEVENT
DTSTART;TZID=Europe/Stockholm:20160330T110000
DTEND;TZID=Europe/Stockholm:20160330T160000
DTSTAMP:20260419T173308
CREATED:20160323T064840Z
LAST-MODIFIED:20160323T114429Z
UID:6565-1459335600-1459353600@arkiv.gratisuppsala.se
SUMMARY:I love stories
DESCRIPTION:I love stories – låtskrivardag i Gränby onsdag 30 mars kl 10-15. \nVill du testa att skriva låtar? Kursen pågår en heldag och vänder sig till dig som är 13-19 år. Dagen tillbringas på biblioteket och i studion där du skriver text och musik med hjälp av vår konstnärlige ledare\, Clara Hagman. \nNågra platser finns kvar\, anmäl dig direkt här.\nKursen är gratis och lunchmacka ingår. Ange i anmälan om du har några särskilda matpreferenser. \nBild: pixabay.com. \nDela evenemanget
URL:https://arkiv.gratisuppsala.se/event/i-love-stories/
LOCATION:Gränbybiblioteket\, Liljeforstorg 1\, Uppsala\, 754 29\, Sverige
CATEGORIES:Föreläsning och Kurs,Påsklov,Sång och Musik
ATTACH;FMTTYPE=image/jpeg:https://arkiv.gratisuppsala.se/wp-content/uploads/2016/03/gitarr_text.jpg
ORGANIZER;CN="Sensus%20Studief%C3%B6rbund%20Uppsala":MAILTO:uppsala@sensus.se
GEO:59.8718525;17.6582693
X-APPLE-STRUCTURED-LOCATION;VALUE=URI;X-ADDRESS=Gränbybiblioteket Liljeforstorg 1 Uppsala 754 29 Sverige;X-APPLE-RADIUS=500;X-TITLE=Liljeforstorg 1:geo:17.6582693,59.8718525
END:VEVENT
END:VCALENDAR