BEGIN:VCALENDAR
VERSION:2.0
PRODID:-//Gratis Uppsala - ECPv5.2.1//NONSGML v1.0//EN
CALSCALE:GREGORIAN
METHOD:PUBLISH
X-WR-CALNAME:Gratis Uppsala
X-ORIGINAL-URL:https://arkiv.gratisuppsala.se
X-WR-CALDESC:Händelser för Gratis Uppsala
BEGIN:VTIMEZONE
TZID:Europe/Stockholm
BEGIN:DAYLIGHT
TZOFFSETFROM:+0100
TZOFFSETTO:+0200
TZNAME:CEST
DTSTART:20180325T010000
END:DAYLIGHT
BEGIN:STANDARD
TZOFFSETFROM:+0200
TZOFFSETTO:+0100
TZNAME:CET
DTSTART:20181028T010000
END:STANDARD
END:VTIMEZONE
BEGIN:VEVENT
DTSTART;TZID=Europe/Stockholm:20180617T140000
DTEND;TZID=Europe/Stockholm:20180617T160000
DTSTAMP:20260420T143510
CREATED:20180604T073736Z
LAST-MODIFIED:20180604T073736Z
UID:25508-1529244000-1529251200@arkiv.gratisuppsala.se
SUMMARY:I oknyttens värld
DESCRIPTION:Vuxenvisning på temat sagor och sägner\n\nEn barnvisning på samma tema startar kl 14:00.\n\n\nSöndag 17 juni\, klockan 13.00\nDisagården\n\n  \n\n Dela evenemanget
URL:https://arkiv.gratisuppsala.se/event/i-oknyttens-varld/
LOCATION:Disagården\, Gamla Uppsala\, Uppsala\, Sverige
CATEGORIES:Kunskap och Lärande
ATTACH;FMTTYPE=image/jpeg:https://arkiv.gratisuppsala.se/wp-content/uploads/2018/05/dwarfs-49808_640.jpg
GEO:59.90112;17.629022
X-APPLE-STRUCTURED-LOCATION;VALUE=URI;X-ADDRESS=Disagården Gamla Uppsala Uppsala Sverige;X-APPLE-RADIUS=500;X-TITLE=Gamla Uppsala:geo:17.629022,59.90112
END:VEVENT
END:VCALENDAR