BEGIN:VCALENDAR
VERSION:2.0
PRODID:-//Gratis Uppsala - ECPv5.2.1//NONSGML v1.0//EN
CALSCALE:GREGORIAN
METHOD:PUBLISH
X-WR-CALNAME:Gratis Uppsala
X-ORIGINAL-URL:https://arkiv.gratisuppsala.se
X-WR-CALDESC:Händelser för Gratis Uppsala
BEGIN:VTIMEZONE
TZID:Europe/Stockholm
BEGIN:DAYLIGHT
TZOFFSETFROM:+0100
TZOFFSETTO:+0200
TZNAME:CEST
DTSTART:20150329T010000
END:DAYLIGHT
BEGIN:STANDARD
TZOFFSETFROM:+0200
TZOFFSETTO:+0100
TZNAME:CET
DTSTART:20151025T010000
END:STANDARD
END:VTIMEZONE
BEGIN:VEVENT
DTSTART;TZID=Europe/Stockholm:20151111T190000
DTEND;TZID=Europe/Stockholm:20151111T210000
DTSTAMP:20260419T201346
CREATED:20150820T073424Z
LAST-MODIFIED:20150820T073500Z
UID:3401-1447268400-1447275600@arkiv.gratisuppsala.se
SUMMARY:Ida - film och samtal med Owe Wikström
DESCRIPTION:Fimlen Ida\, om den polsk judinna på 1960-talet\, avslutas med ett samtal med Owe Wikström\, författare och professor emeritus i religionspsykologi. \nDela evenemanget
URL:https://arkiv.gratisuppsala.se/event/ida-film-och-samtal-med-owe-wikstrom/
LOCATION:Sigtunastiftelsen\, Manfred Björkquists allé 4\, Sigtuna\, Sverige
CATEGORIES:Föreläsning och Kurs,Samhälle,Teater och Bio
ATTACH;FMTTYPE=image/jpeg:https://arkiv.gratisuppsala.se/wp-content/uploads/2015/08/Bibel.jpg
GEO:59.6158714;17.7101321
X-APPLE-STRUCTURED-LOCATION;VALUE=URI;X-ADDRESS=Sigtunastiftelsen Manfred Björkquists allé 4 Sigtuna Sverige;X-APPLE-RADIUS=500;X-TITLE=Manfred Björkquists allé 4:geo:17.7101321,59.6158714
END:VEVENT
END:VCALENDAR