BEGIN:VCALENDAR
VERSION:2.0
PRODID:-//Gratis Uppsala - ECPv5.2.1//NONSGML v1.0//EN
CALSCALE:GREGORIAN
METHOD:PUBLISH
X-WR-CALNAME:Gratis Uppsala
X-ORIGINAL-URL:https://arkiv.gratisuppsala.se
X-WR-CALDESC:Händelser för Gratis Uppsala
BEGIN:VTIMEZONE
TZID:Europe/Stockholm
BEGIN:DAYLIGHT
TZOFFSETFROM:+0100
TZOFFSETTO:+0200
TZNAME:CEST
DTSTART:20160327T010000
END:DAYLIGHT
BEGIN:STANDARD
TZOFFSETFROM:+0200
TZOFFSETTO:+0100
TZNAME:CET
DTSTART:20161030T010000
END:STANDARD
END:VTIMEZONE
BEGIN:VEVENT
DTSTART;TZID=Europe/Stockholm:20160131T143000
DTEND;TZID=Europe/Stockholm:20160129T170000
DTSTAMP:20260419T203457
CREATED:20160129T103745Z
LAST-MODIFIED:20160129T103745Z
UID:6024-1454250600-1454086800@arkiv.gratisuppsala.se
SUMMARY:Ikonutställning
DESCRIPTION:Gratis guidning \nDela evenemanget
URL:https://arkiv.gratisuppsala.se/event/ikonutstallning/
LOCATION:Gottsunda kyrka\, Gottsunda Centrum\, Uppsala\, 75025\, Sverige
CATEGORIES:Konst, Fotografi och Design,Utställning
ATTACH;FMTTYPE=image/jpeg:https://arkiv.gratisuppsala.se/wp-content/uploads/2016/01/ikon.jpg
GEO:59.8093409;17.6295555
X-APPLE-STRUCTURED-LOCATION;VALUE=URI;X-ADDRESS=Gottsunda kyrka Gottsunda Centrum Uppsala 75025 Sverige;X-APPLE-RADIUS=500;X-TITLE=Gottsunda Centrum:geo:17.6295555,59.8093409
END:VEVENT
END:VCALENDAR