BEGIN:VCALENDAR
VERSION:2.0
PRODID:-//Gratis Uppsala - ECPv5.2.1//NONSGML v1.0//EN
CALSCALE:GREGORIAN
METHOD:PUBLISH
X-WR-CALNAME:Gratis Uppsala
X-ORIGINAL-URL:https://arkiv.gratisuppsala.se
X-WR-CALDESC:Händelser för Gratis Uppsala
BEGIN:VTIMEZONE
TZID:Europe/Stockholm
BEGIN:DAYLIGHT
TZOFFSETFROM:+0100
TZOFFSETTO:+0200
TZNAME:CEST
DTSTART:20200329T010000
END:DAYLIGHT
BEGIN:STANDARD
TZOFFSETFROM:+0200
TZOFFSETTO:+0100
TZNAME:CET
DTSTART:20201025T010000
END:STANDARD
END:VTIMEZONE
BEGIN:VEVENT
DTSTART;TZID=Europe/Stockholm:20200324T183000
DTEND;TZID=Europe/Stockholm:20200324T210000
DTSTAMP:20260420T100822
CREATED:20200304T112538Z
LAST-MODIFIED:20200304T112538Z
UID:44471-1585074600-1585083600@arkiv.gratisuppsala.se
SUMMARY:ImproJam på Ungdomens Hus i Uppsala
DESCRIPTION:ImproJam på Ungdomens Hus i Uppsala\nI improjam får du möjligheten att stå på scen och improvisera och alla som vill improvisera ges en möjlighet att göra så. Oavsett vilken tidigare erfarenhet du har eller inte har och oavsett om du kommer själv eller tillsammans med någon eller några andra så är du välkommen. Ni som tycker om att titta på improvisation men föredrar att sitta som publik är självklart varmt välkomna ni också det finns inget krav att vara med på scen. Det är fritt inträde oavsett vilka delar du väljer att vara eller inte vara med på. Dessutom finns det ingen åldersgräns\, vare sig en övre eller undre sådan\, alla är välkomna. \n\nKvällens schema: \n18:30 \nAllihopa värmer upp tillsammans i grupp. Tillsammans kör alla några enklare övningar och lekar för att lära känna varandra och ha kul. \n19:15 \nDå är det möjligt att anmäla sig för att vara med i scener\, du kan fortfarande vara med i scener även om du inte hinner till uppvärmningen \n19:30 \nStartar jamet och det dras igång med scener! \n20:30-21:00 Improviserade föreställningar! \n\nDatum: \nTisdagen den 24 mars 2020\nTisdagen den 21 april 2020 \nTisdagen den 19 maj 2020\nTisdagen den 16 juni 2020 \nTid: 18:30 -21:00\nPlats: Ungdomens Hus\, Svartbäcksgatan. 32\, 753 32 Uppsala\nÅlder: För alla!\nPris: Fri entré\nShowanmälan: Vill du uppträda med din grupp? Klicka på länken\nArrangör: Mind Melt i samarbete med Ungdomens Hus och Studieförbundet Bilda \n\nOm Ungdomens Hus\nFöreningen drivs av ungdomar för ungdomar där inga personer från vuxenvärlden är inblandade. Det är en autonom\, demokratiskt och medlemsstyrd förening som driver en rad verksamhetsrum och replokaler av unga människor boende i Uppsala län. Det finns även ett café med fika och enkel mat till näst intill självkostnadspris. Ungdomens Hus är en alkohol och drogfri förening som värnar om en trygg plats där unga skapar sin vardag. \n\nBesök gärna länkarna nedan (externa länkar öppnas i ett nytt fönster/flik).\nImprovisations teater på Ungdomens hus | Kommande event inom teater \nFoto: Pixabay \nDela evenemanget
URL:https://arkiv.gratisuppsala.se/event/improjam-pa-ungdomens-hus-i-uppsala/2020-03-24/
LOCATION:Ungdomens Hus\, Svartbäcksgatan 32\, Uppsala\, 75332\, Sverige
CATEGORIES:Ålderskategori,Anmälan,Anmälan / Kostnad,Barn,Centrum,Eventkategori,Familj,För anhöriga,Geografisk kategori,Gratis,Ingen föranmälan,Kunskap och Lärande,Prova-på,Skollov,Sommarlov,Teater,Teater och Bio,Ungdom,Uppsala,Uppsala Kommun,Vuxen
ATTACH;FMTTYPE=image/jpeg:https://arkiv.gratisuppsala.se/wp-content/uploads/2020/03/artist-3480274_1920-e1583319260197.jpg
ORGANIZER;CN="Mind%20Melt":MAILTO:kontakt@mindmelt.se
END:VEVENT
END:VCALENDAR