BEGIN:VCALENDAR
VERSION:2.0
PRODID:-//Gratis Uppsala - ECPv5.2.1//NONSGML v1.0//EN
CALSCALE:GREGORIAN
METHOD:PUBLISH
X-WR-CALNAME:Gratis Uppsala
X-ORIGINAL-URL:https://arkiv.gratisuppsala.se
X-WR-CALDESC:Händelser för Gratis Uppsala
BEGIN:VTIMEZONE
TZID:Europe/Stockholm
BEGIN:DAYLIGHT
TZOFFSETFROM:+0100
TZOFFSETTO:+0200
TZNAME:CEST
DTSTART:20150329T010000
END:DAYLIGHT
BEGIN:STANDARD
TZOFFSETFROM:+0200
TZOFFSETTO:+0100
TZNAME:CET
DTSTART:20151025T010000
END:STANDARD
END:VTIMEZONE
BEGIN:VEVENT
DTSTART;TZID=Europe/Stockholm:20151231T231500
DTEND;TZID=Europe/Stockholm:20151231T231500
DTSTAMP:20260421T034935
CREATED:20151228T092843Z
LAST-MODIFIED:20151228T092843Z
UID:5362-1451603700-1451603700@arkiv.gratisuppsala.se
SUMMARY:Inför det nya året - Domkyrkan
DESCRIPTION:Fira in det nya året i Domkyrkan\nVid tolvslaget hörs domkyrkans klockor över hela Uppsala. Den största av dem\, Storan\, är med sina 6200 kilo Sveriges största kyrkklocka. Den härstammar ursprungligen från 1634 men göts om efter stadsbranden 1702. Bara vid fyra tillfällen per år – jul\, nyår\, påsk och pingst – ringer alla fem klockorna samtidigt. Orgelmusik och förbön. Det nya året rings in. Samlingsmusik på orgel från kl. 23.15. \nPräst: Sam Douhan\nMusiker: Milke Falck\n \nDela evenemanget
URL:https://arkiv.gratisuppsala.se/event/infor-det-nya-aret/
LOCATION:Uppsala domkyrka\, Domkyrkoplan 5\, Uppsala\, 75310\, Sverige
CATEGORIES:Kropp och Själ,Sång och Musik
ATTACH;FMTTYPE=image/jpeg:https://arkiv.gratisuppsala.se/wp-content/uploads/2015/05/domkyrkan-1-e1439190582327.jpg
GEO:59.8584471;17.6332992
X-APPLE-STRUCTURED-LOCATION;VALUE=URI;X-ADDRESS=Uppsala domkyrka Domkyrkoplan 5 Uppsala 75310 Sverige;X-APPLE-RADIUS=500;X-TITLE=Domkyrkoplan 5:geo:17.6332992,59.8584471
END:VEVENT
END:VCALENDAR