BEGIN:VCALENDAR
VERSION:2.0
PRODID:-//Gratis Uppsala - ECPv5.2.1//NONSGML v1.0//EN
CALSCALE:GREGORIAN
METHOD:PUBLISH
X-WR-CALNAME:Gratis Uppsala
X-ORIGINAL-URL:https://arkiv.gratisuppsala.se
X-WR-CALDESC:Händelser för Gratis Uppsala
BEGIN:VTIMEZONE
TZID:Europe/Stockholm
BEGIN:DAYLIGHT
TZOFFSETFROM:+0100
TZOFFSETTO:+0200
TZNAME:CEST
DTSTART:20150329T010000
END:DAYLIGHT
BEGIN:STANDARD
TZOFFSETFROM:+0200
TZOFFSETTO:+0100
TZNAME:CET
DTSTART:20151025T010000
END:STANDARD
END:VTIMEZONE
BEGIN:VEVENT
DTSTART;TZID=Europe/Stockholm:20151007T150000
DTEND;TZID=Europe/Stockholm:20151007T180000
DTSTAMP:20260421T111835
CREATED:20150915T070813Z
LAST-MODIFIED:20150915T071410Z
UID:3753-1444230000-1444240800@arkiv.gratisuppsala.se
SUMMARY:Infoteket jubilerar
DESCRIPTION:Program för dagen \nBl a berättar Anna Thalén om hur hon upplever Infoteket. Anna är omsorgspedagog\, har Aspergers syndrom och hon är förälder till barn såväl med som utan diagnos. Vi får ta del av hennes tips på hur information bör förmedlas\, hur man bemöter personer med Aspergers syndrom och vad det kan bero på när kommunikationen inte fungerar. \nDela evenemanget
URL:https://arkiv.gratisuppsala.se/event/infoteket-jubilerar/
LOCATION:Infoteket om funktionshinder\, S:t Johannesgatan 28 D\, Uppsala\, 752 33\, Sverige
CATEGORIES:Föreläsning och Kurs,Kropp och Själ
ORGANIZER;CN="Infoteket%20om%20funktionshinder":MAILTO:infoteket@lul.se
GEO:59.8553013;17.6213622
X-APPLE-STRUCTURED-LOCATION;VALUE=URI;X-ADDRESS=Infoteket om funktionshinder S:t Johannesgatan 28 D Uppsala 752 33 Sverige;X-APPLE-RADIUS=500;X-TITLE=S:t Johannesgatan 28 D:geo:17.6213622,59.8553013
END:VEVENT
END:VCALENDAR