BEGIN:VCALENDAR
VERSION:2.0
PRODID:-//Gratis Uppsala - ECPv5.2.1//NONSGML v1.0//EN
CALSCALE:GREGORIAN
METHOD:PUBLISH
X-WR-CALNAME:Gratis Uppsala
X-ORIGINAL-URL:https://arkiv.gratisuppsala.se
X-WR-CALDESC:Händelser för Gratis Uppsala
BEGIN:VTIMEZONE
TZID:Europe/Stockholm
BEGIN:DAYLIGHT
TZOFFSETFROM:+0100
TZOFFSETTO:+0200
TZNAME:CEST
DTSTART:20160327T010000
END:DAYLIGHT
BEGIN:STANDARD
TZOFFSETFROM:+0200
TZOFFSETTO:+0100
TZNAME:CET
DTSTART:20161030T010000
END:STANDARD
END:VTIMEZONE
BEGIN:VEVENT
DTSTART;TZID=Europe/Stockholm:20160131T140000
DTEND;TZID=Europe/Stockholm:20160126T170000
DTSTAMP:20260419T203533
CREATED:20160126T105140Z
LAST-MODIFIED:20160126T105140Z
UID:5919-1454248800-1453827600@arkiv.gratisuppsala.se
SUMMARY:Inte bara bling!
DESCRIPTION:Inte bara bling! En föreläsning med Pia Bengtsson Melin om magiska stenar och märkliga ramsor på medeltida fingerringar. \nSöndag 31 januari kl 14\, i museets hörsal. Efter föreläsningen visar Pia utställningen RINGAR – makt\, mode\, magi. \nBild: commons.wikimedia.org. \n  \nDela evenemanget
URL:https://arkiv.gratisuppsala.se/event/inte-bara-bling/
LOCATION:Upplandsmuseet\, Fyristorg 2\, Uppsala\, Sverige
CATEGORIES:Föreläsning och Kurs,Utställning
ATTACH;FMTTYPE=image/jpeg:https://arkiv.gratisuppsala.se/wp-content/uploads/2016/01/blingbling.jpg
GEO:59.85895;17.634901
X-APPLE-STRUCTURED-LOCATION;VALUE=URI;X-ADDRESS=Upplandsmuseet Fyristorg 2 Uppsala Sverige;X-APPLE-RADIUS=500;X-TITLE=Fyristorg 2:geo:17.634901,59.85895
END:VEVENT
END:VCALENDAR