BEGIN:VCALENDAR
VERSION:2.0
PRODID:-//Gratis Uppsala - ECPv5.2.1//NONSGML v1.0//EN
CALSCALE:GREGORIAN
METHOD:PUBLISH
X-WR-CALNAME:Gratis Uppsala
X-ORIGINAL-URL:https://arkiv.gratisuppsala.se
X-WR-CALDESC:Händelser för Gratis Uppsala
BEGIN:VTIMEZONE
TZID:Europe/Stockholm
BEGIN:DAYLIGHT
TZOFFSETFROM:+0100
TZOFFSETTO:+0200
TZNAME:CEST
DTSTART:20160327T010000
END:DAYLIGHT
BEGIN:STANDARD
TZOFFSETFROM:+0200
TZOFFSETTO:+0100
TZNAME:CET
DTSTART:20161030T010000
END:STANDARD
END:VTIMEZONE
BEGIN:VEVENT
DTSTART;TZID=Europe/Stockholm:20160308T180000
DTEND;TZID=Europe/Stockholm:20160303T170000
DTSTAMP:20260422T042852
CREATED:20160303T124626Z
LAST-MODIFIED:20160303T124626Z
UID:6371-1457460000-1457024400@arkiv.gratisuppsala.se
SUMMARY:Internationella kvinnodagen på Kalmar nation
DESCRIPTION:Kvinna till kvinna arrangerar en kväll för att hylla kvinnor. Läs arrangörens flyer. \nDela evenemanget
URL:https://arkiv.gratisuppsala.se/event/internationella-kvinnodagen-pa-kalmar-nation-2/
LOCATION:Kalmar nation\, Svartmangatan 3\, Uppsala\, 753 12\, Sverige
CATEGORIES:Föreläsning och Kurs,Sång och Musik
GEO:59.8591217;17.6266761
X-APPLE-STRUCTURED-LOCATION;VALUE=URI;X-ADDRESS=Kalmar nation Svartmangatan 3 Uppsala 753 12 Sverige;X-APPLE-RADIUS=500;X-TITLE=Svartmangatan 3:geo:17.6266761,59.8591217
END:VEVENT
END:VCALENDAR