BEGIN:VCALENDAR
VERSION:2.0
PRODID:-//Gratis Uppsala - ECPv5.2.1//NONSGML v1.0//EN
CALSCALE:GREGORIAN
METHOD:PUBLISH
X-WR-CALNAME:Gratis Uppsala
X-ORIGINAL-URL:https://arkiv.gratisuppsala.se
X-WR-CALDESC:Händelser för Gratis Uppsala
BEGIN:VTIMEZONE
TZID:Europe/Stockholm
BEGIN:DAYLIGHT
TZOFFSETFROM:+0100
TZOFFSETTO:+0200
TZNAME:CEST
DTSTART:20150329T010000
END:DAYLIGHT
BEGIN:STANDARD
TZOFFSETFROM:+0200
TZOFFSETTO:+0100
TZNAME:CET
DTSTART:20151025T010000
END:STANDARD
END:VTIMEZONE
BEGIN:VEVENT
DTSTART;TZID=Europe/Stockholm:20150827T140000
DTEND;TZID=Europe/Stockholm:20150827T143000
DTSTAMP:20260420T085631
CREATED:20150825T062833Z
LAST-MODIFIED:20150825T062833Z
UID:3459-1440684000-1440685800@arkiv.gratisuppsala.se
SUMMARY:Intro-visning på Uppsala Konstmuseum: Suecia Contemporare
DESCRIPTION:Under sommaren ges kortare visningar av aktuella utställningar på Uppsala Konstmuseum.\nBeräknad tid ca 20 minuter. \nFritt inträde. \nDela evenemanget
URL:https://arkiv.gratisuppsala.se/event/intro-visning-pa-uppsala-konstmuseum-suecia-contemporare/
LOCATION:Uppsala konstmuseum\, Drottning Christinas väg 1E\, Uppsala\, 75237 \, Sverige
ATTACH;FMTTYPE=image/jpeg:https://arkiv.gratisuppsala.se/wp-content/uploads/2015/07/Konstmuseet.jpg
GEO:59.8532935;17.6351313
X-APPLE-STRUCTURED-LOCATION;VALUE=URI;X-ADDRESS=Uppsala konstmuseum Drottning Christinas väg 1E Uppsala 75237  Sverige;X-APPLE-RADIUS=500;X-TITLE=Drottning Christinas väg 1E:geo:17.6351313,59.8532935
END:VEVENT
END:VCALENDAR