BEGIN:VCALENDAR
VERSION:2.0
PRODID:-//Gratis Uppsala - ECPv5.2.1//NONSGML v1.0//EN
CALSCALE:GREGORIAN
METHOD:PUBLISH
X-WR-CALNAME:Gratis Uppsala
X-ORIGINAL-URL:https://arkiv.gratisuppsala.se
X-WR-CALDESC:Händelser för Gratis Uppsala
BEGIN:VTIMEZONE
TZID:Europe/Stockholm
BEGIN:DAYLIGHT
TZOFFSETFROM:+0100
TZOFFSETTO:+0200
TZNAME:CEST
DTSTART:20170326T010000
END:DAYLIGHT
BEGIN:STANDARD
TZOFFSETFROM:+0200
TZOFFSETTO:+0100
TZNAME:CET
DTSTART:20171029T010000
END:STANDARD
END:VTIMEZONE
BEGIN:VEVENT
DTSTART;TZID=Europe/Stockholm:20170512T170000
DTEND;TZID=Europe/Stockholm:20170512T190000
DTSTAMP:20260420T032920
CREATED:20170508T072754Z
LAST-MODIFIED:20170508T072754Z
UID:13789-1494608400-1494615600@arkiv.gratisuppsala.se
SUMMARY:Tatueringar - Invigning av utställningen Tro\, hopp och kärlek
DESCRIPTION:Invigning av utställningen Tro\, hopp och kärlek\nEn utställning om sjömanstatueringar\n\nOm utställningen:\nUtställningen berättar om varför sjömän tatuerade sig och om motivens ursprung. Om tatueringen gör huden till en röst\, vad ville man att det egna skinnet skulle säga?\nIdag pryder sig många åter med liknande tatueringar\, nu kallade “Old School”. De ses numera som en egen konstform\, men är betydelserna de samma?\nVem väljer fjärilen\, vem pinuppan och vem fullriggaren? Och var finns den nakne mannen? \nMed en samling av tatueringsförlagor från 1920- och 1930-talet. Den innehåller nautiska stjärnor\, fullriggare\, exotiska djur\, nakna och påklädda kvinnor\, svalor\, rosor\, ankare … och mycket mer. Tatueringar är både dekorativa och kommunikativa. \nVem vill idag pryda sin kropp med ett ankare\, en ros eller en svala? Och vilken mening lägger man i de gamla motiven? Utställningen försöker också visa hur sjömanstatueringarna hänger samman med föreställningar om manlighet och kvinnlighet. \n  \nUtställningen invigs den 12 maj klockan 16.00-18.00 av Hans-Lennart Ohlsson\, museichef Sjöhistoriska museet\, Herman Bengtsson\, docent konstvetenskap på Upplandsmuseet samt Mankan\, vd Rough Stuff Tattoo. \nInformation om utställningen samt museets öppettider finner du på Upplandsmuseets hemsida. \n\nUpplandsmuseet bjuder på förfriskningar. \n  \n\nUtställningen är producerad av Sjöhistoriska museet. Mer information om Sjömanstatueringar och dess utställning finns på Sjöhistoriska museets hemsida.  \n  \n_____________________________________________________________________ \nVarje fredag kl 14 erbjuder Upplandsmuseet en gratis visning på av en av deras utställningar\, visningen pågår i cirka 30 minuter. Fredag den 16 juni gäller visningen utställningen Tro\, Hopp och Kärlek. \n  \nBild från wikimedia.org \nDela evenemanget
URL:https://arkiv.gratisuppsala.se/event/invigning-tro-hopp-och-karlek/
LOCATION:Upplandsmuseet\, Fyristorg 2\, Uppsala\, Sverige
CATEGORIES:Konst, Fotografi och Design,Museum,Samhälle,Utställning
ATTACH;FMTTYPE=image/jpeg:https://arkiv.gratisuppsala.se/wp-content/uploads/2017/05/tattoo-sjöman.jpg
ORGANIZER;CN="Sj%C3%B6historiska%20museet":MAILTO:sjohistoriska@maritima.se
GEO:59.85895;17.634901
X-APPLE-STRUCTURED-LOCATION;VALUE=URI;X-ADDRESS=Upplandsmuseet Fyristorg 2 Uppsala Sverige;X-APPLE-RADIUS=500;X-TITLE=Fyristorg 2:geo:17.634901,59.85895
END:VEVENT
END:VCALENDAR