BEGIN:VCALENDAR
VERSION:2.0
PRODID:-//Gratis Uppsala - ECPv5.2.1//NONSGML v1.0//EN
CALSCALE:GREGORIAN
METHOD:PUBLISH
X-WR-CALNAME:Gratis Uppsala
X-ORIGINAL-URL:https://arkiv.gratisuppsala.se
X-WR-CALDESC:Händelser för Gratis Uppsala
BEGIN:VTIMEZONE
TZID:Europe/Stockholm
BEGIN:DAYLIGHT
TZOFFSETFROM:+0100
TZOFFSETTO:+0200
TZNAME:CEST
DTSTART:20160327T010000
END:DAYLIGHT
BEGIN:STANDARD
TZOFFSETFROM:+0200
TZOFFSETTO:+0100
TZNAME:CET
DTSTART:20161030T010000
END:STANDARD
END:VTIMEZONE
BEGIN:VEVENT
DTSTART;TZID=Europe/Stockholm:20161109T183000
DTEND;TZID=Europe/Stockholm:20161109T210000
DTSTAMP:20260420T011602
CREATED:20161019T082123Z
LAST-MODIFIED:20161019T082235Z
UID:8980-1478716200-1478725200@arkiv.gratisuppsala.se
SUMMARY:Istid eller värmebölja
DESCRIPTION:Vad händer med ett slutförvar om klimatet blir varmare\,\neller kallare? \nDet är frågor som SKB:s klimatforskare Jens-Ove Näslund\noch Lillemor Claesson Liljedahl försöker besvara i sitt\narbete. Tidsperspektivet är svindlande 100 000 år och mer.\nEtt så långt spann måste deras analyser och modeller\növerblicka. Kom och hör dem berätta om sin forskning\npå SKB:s temakväll. \nPlats: Kyrkans hus\, Lillgatan 4 Österbybruk kl 1830 den 9 november 2016. \nDela evenemanget
URL:https://arkiv.gratisuppsala.se/event/istid-eller-varmebolja/
LOCATION:Kyrkans hus\, Lillgatan 4\, Österbybruk
CATEGORIES:Föreläsning och Kurs
GEO:60.1953588;17.898266
X-APPLE-STRUCTURED-LOCATION;VALUE=URI;X-ADDRESS=Kyrkans hus Lillgatan 4 Österbybruk;X-APPLE-RADIUS=500;X-TITLE=Lillgatan 4:geo:17.898266,60.1953588
END:VEVENT
END:VCALENDAR