BEGIN:VCALENDAR
VERSION:2.0
PRODID:-//Gratis Uppsala - ECPv5.2.1//NONSGML v1.0//EN
CALSCALE:GREGORIAN
METHOD:PUBLISH
X-WR-CALNAME:Gratis Uppsala
X-ORIGINAL-URL:https://arkiv.gratisuppsala.se
X-WR-CALDESC:Händelser för Gratis Uppsala
BEGIN:VTIMEZONE
TZID:Europe/Stockholm
BEGIN:DAYLIGHT
TZOFFSETFROM:+0100
TZOFFSETTO:+0200
TZNAME:CEST
DTSTART:20150329T010000
END:DAYLIGHT
BEGIN:STANDARD
TZOFFSETFROM:+0200
TZOFFSETTO:+0100
TZNAME:CET
DTSTART:20151025T010000
END:STANDARD
END:VTIMEZONE
BEGIN:VEVENT
DTSTART;TZID=Europe/Stockholm:20151104T190000
DTEND;TZID=Europe/Stockholm:20151104T190000
DTSTAMP:20260419T185036
CREATED:20151030T055806Z
LAST-MODIFIED:20151103T135525Z
UID:4380-1446663600-1446663600@arkiv.gratisuppsala.se
SUMMARY:Jazz-fusion i Almtunakyrkan
DESCRIPTION:Jazz-fusion med Holger Horizon i Almtunakyrkan. \nOnsdag 4 november kl 19.00. \nGruppen framför spännande och vital fusion och bjuder på egensinnig\, svängig och varm musik med mycket melodi. Konserten ges till minne av Uppsalaprofilen Håkan ”Hubbe” Larsson. \nRoland Keijser\, träblås\nAnders Bromander\, piano\nThor-Björn Jönsson\, trummor\nVilhelm Bromander\, kontrabas \nFri entré. \n  \nBild: wikimedia.org \n  \nDela evenemanget
URL:https://arkiv.gratisuppsala.se/event/jazz-fusion-i-almtunakyrkan/
LOCATION:Almtunakyrkan\, Torkelsgatan 2D\, Uppsala\, Uppsala
CATEGORIES:Sång och Musik
ATTACH;FMTTYPE=image/jpeg:https://arkiv.gratisuppsala.se/wp-content/uploads/2015/10/jazzfusion.jpg
END:VEVENT
END:VCALENDAR