BEGIN:VCALENDAR
VERSION:2.0
PRODID:-//Gratis Uppsala - ECPv5.2.1//NONSGML v1.0//EN
CALSCALE:GREGORIAN
METHOD:PUBLISH
X-WR-CALNAME:Gratis Uppsala
X-ORIGINAL-URL:https://arkiv.gratisuppsala.se
X-WR-CALDESC:Händelser för Gratis Uppsala
BEGIN:VTIMEZONE
TZID:Europe/Stockholm
BEGIN:DAYLIGHT
TZOFFSETFROM:+0100
TZOFFSETTO:+0200
TZNAME:CEST
DTSTART:20150329T010000
END:DAYLIGHT
BEGIN:STANDARD
TZOFFSETFROM:+0200
TZOFFSETTO:+0100
TZNAME:CET
DTSTART:20151025T010000
END:STANDARD
END:VTIMEZONE
BEGIN:VEVENT
DTSTART;TZID=Europe/Stockholm:20151218T140000
DTEND;TZID=Europe/Stockholm:20151218T140000
DTSTAMP:20260419T190857
CREATED:20151209T130144Z
LAST-MODIFIED:20151210T190631Z
UID:5175-1450447200-1450447200@arkiv.gratisuppsala.se
SUMMARY:Jul i museet
DESCRIPTION:Jul i museet. Museipedagog Stina Flink berättar om jultraditioner förr och nu\, lokalt och internationellt. \nPlats. Samling i Upplandsmuseets receptionen. Fri entré. \nBild: Carl Larsson-målning\, wikimedia.org. \nDela evenemanget
URL:https://arkiv.gratisuppsala.se/event/jul-i-museet/
LOCATION:Upplandsmuseet\, Fyristorg 2\, Uppsala\, Sverige
CATEGORIES:Föreläsning och Kurs,Samhälle,Utställning
ATTACH;FMTTYPE=image/jpeg:https://arkiv.gratisuppsala.se/wp-content/uploads/2015/12/carl_larsson_jul.jpg
GEO:59.85895;17.634901
X-APPLE-STRUCTURED-LOCATION;VALUE=URI;X-ADDRESS=Upplandsmuseet Fyristorg 2 Uppsala Sverige;X-APPLE-RADIUS=500;X-TITLE=Fyristorg 2:geo:17.634901,59.85895
END:VEVENT
END:VCALENDAR