BEGIN:VCALENDAR
VERSION:2.0
PRODID:-//Gratis Uppsala - ECPv5.2.1//NONSGML v1.0//EN
CALSCALE:GREGORIAN
METHOD:PUBLISH
X-WR-CALNAME:Gratis Uppsala
X-ORIGINAL-URL:https://arkiv.gratisuppsala.se
X-WR-CALDESC:Händelser för Gratis Uppsala
BEGIN:VTIMEZONE
TZID:Europe/Stockholm
BEGIN:DAYLIGHT
TZOFFSETFROM:+0100
TZOFFSETTO:+0200
TZNAME:CEST
DTSTART:20150329T010000
END:DAYLIGHT
BEGIN:STANDARD
TZOFFSETFROM:+0200
TZOFFSETTO:+0100
TZNAME:CET
DTSTART:20151025T010000
END:STANDARD
END:VTIMEZONE
BEGIN:VEVENT
DTSTART;TZID=Europe/Stockholm:20151224T150000
DTEND;TZID=Europe/Stockholm:20151226T210000
DTSTAMP:20260421T100129
CREATED:20151221T105628Z
LAST-MODIFIED:20151221T105628Z
UID:5302-1450969200-1451163600@arkiv.gratisuppsala.se
SUMMARY:Julaktiviteter för alla
DESCRIPTION:Sävja kulturcentrum anordnar Julaktiviteter för alla under julhelgen. \nJulafton: fika\, fiskdamm\, film i allsalen (Ensam hemma)\, ansiktsmålning och sällskapsspel. \nJuldagen: fika\, film i allsalen\, tjej-spa i programrummet och fotboll kl. 15.00–17.00 i sporthallen. \nAnnandagen: fika\, film i allsalen\, sällskapsspel och tjej-spa i programrummet. \nFöreningarna Uppsala Kurd\, Din bästa fritid\, Uppsala TK och fritidsgården arrangerar aktiviteterna. \nBildursprung från pixabay.com. \nDela evenemanget
URL:https://arkiv.gratisuppsala.se/event/julaktiviteter/
LOCATION:Sävja Kulturcentrum\, Västgötaresan \, Uppsala\, 757 54\, Sverige
ATTACH;FMTTYPE=image/jpeg:https://arkiv.gratisuppsala.se/wp-content/uploads/2015/12/randig.jpg
ORGANIZER;CN="Uppsala%20kommun":MAILTO:uppsala.kommun@uppsala.se
GEO:59.8085971;17.7022024
X-APPLE-STRUCTURED-LOCATION;VALUE=URI;X-ADDRESS=Sävja Kulturcentrum Västgötaresan  Uppsala 757 54 Sverige;X-APPLE-RADIUS=500;X-TITLE=Västgötaresan:geo:17.7022024,59.8085971
END:VEVENT
END:VCALENDAR