BEGIN:VCALENDAR
VERSION:2.0
PRODID:-//Gratis Uppsala - ECPv5.2.1//NONSGML v1.0//EN
CALSCALE:GREGORIAN
METHOD:PUBLISH
X-WR-CALNAME:Gratis Uppsala
X-ORIGINAL-URL:https://arkiv.gratisuppsala.se
X-WR-CALDESC:Händelser för Gratis Uppsala
BEGIN:VTIMEZONE
TZID:Europe/Stockholm
BEGIN:DAYLIGHT
TZOFFSETFROM:+0100
TZOFFSETTO:+0200
TZNAME:CEST
DTSTART:20150329T010000
END:DAYLIGHT
BEGIN:STANDARD
TZOFFSETFROM:+0200
TZOFFSETTO:+0100
TZNAME:CET
DTSTART:20151025T010000
END:STANDARD
END:VTIMEZONE
BEGIN:VEVENT
DTSTART;TZID=Europe/Stockholm:20151212T110000
DTEND;TZID=Europe/Stockholm:20151212T150000
DTSTAMP:20260419T201737
CREATED:20151206T093125Z
LAST-MODIFIED:20151206T093125Z
UID:5088-1449918000-1449932400@arkiv.gratisuppsala.se
SUMMARY:Julbaks-loppis
DESCRIPTION:Julbaks-loppis i Gottsunda Centrum för alla som älskar bakverk och bröd. \nDa’n före Lucia\, mitt i julstöket\, bullas det upp en marknad full med lussebullar och pepparkakor\, knäck och kola\, vörtlimpor och tunnbröd – ja\, allt det väldoftande goda i bakväg. Det är Julbaks-Loppis! \nDu som inte har handlag med deg\, smet och sockerlag\, eller bara inte orkar dra igång några storbak – här är du hjärtligt välkommen att frossa i hembakt! \nPå julbaks-loppis kan alla bak-fantaster\, privatpersoner\, föreningar och skolklasser\, sälja sina hembakta specialiteter\, som kakor\, godis och bröd. \nSå för alla er som gillar julens goda bröd och bakverk – missa för allt i världen inte denna väldoftande och välsmakande loppis! \nEtt samarrangemang av Gottsunda Centrum och Stockholmsmarknader AB. \nBild: loppistajm.se. \nDela evenemanget
URL:https://arkiv.gratisuppsala.se/event/julbaks-loppis/
LOCATION:Gottsunda Centrum\, Valthornsvägen 11 \, Uppsala\, 75025 \, Sverige
CATEGORIES:Marknad & Loppis
ATTACH;FMTTYPE=image/jpeg:https://arkiv.gratisuppsala.se/wp-content/uploads/2015/12/julbak.jpg
END:VEVENT
END:VCALENDAR