BEGIN:VCALENDAR
VERSION:2.0
PRODID:-//Gratis Uppsala - ECPv5.2.1//NONSGML v1.0//EN
CALSCALE:GREGORIAN
METHOD:PUBLISH
X-WR-CALNAME:Gratis Uppsala
X-ORIGINAL-URL:https://arkiv.gratisuppsala.se
X-WR-CALDESC:Händelser för Gratis Uppsala
BEGIN:VTIMEZONE
TZID:Europe/Stockholm
BEGIN:DAYLIGHT
TZOFFSETFROM:+0100
TZOFFSETTO:+0200
TZNAME:CEST
DTSTART:20170326T010000
END:DAYLIGHT
BEGIN:STANDARD
TZOFFSETFROM:+0200
TZOFFSETTO:+0100
TZNAME:CET
DTSTART:20171029T010000
END:STANDARD
END:VTIMEZONE
BEGIN:VEVENT
DTSTART;TZID=Europe/Stockholm:20170106T150000
DTEND;TZID=Europe/Stockholm:20170106T170000
DTSTAMP:20260420T193301
CREATED:20170102T133508Z
LAST-MODIFIED:20170102T133508Z
UID:10030-1483714800-1483722000@arkiv.gratisuppsala.se
SUMMARY:Julgransplundring i Rosendal
DESCRIPTION:Dansa ut julen kan du göra när IOGT-NTO Svea arrangerar Julgransplundring på Rosenlund i Rosendal. \nFörutom dans kring granen blir det fika\, pyssel och sångstund. Kanske dyker tomten upp…? \nStora och små i alla åldrar är välkomna till Vårdsätravägen 4\, fredag 6 januari kl 15-17. \nBild: publicdomainpictures.net. \nDela evenemanget
URL:https://arkiv.gratisuppsala.se/event/julgransplundring-i-rosendal/
LOCATION:Rosenlund\, Vårdsätravägen 4\, Uppsala\, 75646\, Sverige
ATTACH;FMTTYPE=image/jpeg:https://arkiv.gratisuppsala.se/wp-content/uploads/2017/01/julgran.jpg
ORGANIZER;CN="IOGT-NTO%20Uppsala":MAILTO:uppsala@iogt.se
GEO:59.8300379;17.6394099
X-APPLE-STRUCTURED-LOCATION;VALUE=URI;X-ADDRESS=Rosenlund Vårdsätravägen 4 Uppsala 75646 Sverige;X-APPLE-RADIUS=500;X-TITLE=Vårdsätravägen 4:geo:17.6394099,59.8300379
END:VEVENT
END:VCALENDAR