BEGIN:VCALENDAR
VERSION:2.0
PRODID:-//Gratis Uppsala - ECPv5.2.1//NONSGML v1.0//EN
CALSCALE:GREGORIAN
METHOD:PUBLISH
X-WR-CALNAME:Gratis Uppsala
X-ORIGINAL-URL:https://arkiv.gratisuppsala.se
X-WR-CALDESC:Händelser för Gratis Uppsala
BEGIN:VTIMEZONE
TZID:Europe/Stockholm
BEGIN:STANDARD
TZOFFSETFROM:+0100
TZOFFSETTO:+0100
TZNAME:CET
DTSTART:20160101T000000
END:STANDARD
END:VTIMEZONE
BEGIN:VEVENT
DTSTART;TZID=Europe/Stockholm:20160103T140000
DTEND;TZID=Europe/Stockholm:20151228T170000
DTSTAMP:20260420T194622
CREATED:20151228T125731Z
LAST-MODIFIED:20151228T125731Z
UID:5416-1451829600-1451322000@arkiv.gratisuppsala.se
SUMMARY:Julgransplundring i Skutskär
DESCRIPTION:Vit Jul arrangerar Julgransplundring i Skutskär\, söndag 3 januari med start kl 14. \nDet kommer att vara dans kring granen med lekledare\, fika\, fiskdamm och tomte! \nFör alla åldrar! Det är gratis\, ingen föranmälan krävs. \nBild: pixabay.com. \nDela evenemanget
URL:https://arkiv.gratisuppsala.se/event/julgransplundring-i-skutskar/
LOCATION:Ordenshuset\, Fjärde Tvärgatan 12\, Skutskär\, 81440
ATTACH;FMTTYPE=image/png:https://arkiv.gratisuppsala.se/wp-content/uploads/2015/12/julgran_lutar.png
GEO:60.6208228;17.41264
X-APPLE-STRUCTURED-LOCATION;VALUE=URI;X-ADDRESS=Ordenshuset Fjärde Tvärgatan 12 Skutskär 81440;X-APPLE-RADIUS=500;X-TITLE=Fjärde Tvärgatan 12:geo:17.41264,60.6208228
END:VEVENT
END:VCALENDAR