BEGIN:VCALENDAR
VERSION:2.0
PRODID:-//Gratis Uppsala - ECPv5.2.1//NONSGML v1.0//EN
CALSCALE:GREGORIAN
METHOD:PUBLISH
X-WR-CALNAME:Gratis Uppsala
X-ORIGINAL-URL:https://arkiv.gratisuppsala.se
X-WR-CALDESC:Händelser för Gratis Uppsala
BEGIN:VTIMEZONE
TZID:Europe/Stockholm
BEGIN:DAYLIGHT
TZOFFSETFROM:+0100
TZOFFSETTO:+0200
TZNAME:CEST
DTSTART:20170326T010000
END:DAYLIGHT
BEGIN:STANDARD
TZOFFSETFROM:+0200
TZOFFSETTO:+0100
TZNAME:CET
DTSTART:20171029T010000
END:STANDARD
END:VTIMEZONE
BEGIN:VEVENT
DTSTART;TZID=Europe/Stockholm:20171217T140000
DTEND;TZID=Europe/Stockholm:20171217T150000
DTSTAMP:20260423T111401
CREATED:20171214T100510Z
LAST-MODIFIED:20171214T100510Z
UID:21283-1513519200-1513522800@arkiv.gratisuppsala.se
SUMMARY:Julkonsert med Grönsångarna och Lärkorna
DESCRIPTION:Julkonsert med Grönsångarna och Lärkorna\n\nJulkonsert med körerna Grönsångarna och Lärkorna. Lyssna på julsånger sjungna av två av Uppsalas kulturskolas körer.\n\nPlats:\nNannaskolans aula\nDatum:\n17 december\nStartar: 14:00\nSlutar: 15:00 \n\nFritt inträde. Insamling till Världens barn. \nBild från pixabay.com \nDela evenemanget
URL:https://arkiv.gratisuppsala.se/event/julkonsert-med-gronsangarna-och-larkorna/
LOCATION:Nannaskolans aula\, Kungsgatan 22\, Uppsala
CATEGORIES:Konsert
ATTACH;FMTTYPE=image/jpeg:https://arkiv.gratisuppsala.se/wp-content/uploads/2017/12/christmas-background-314802_640.jpg
GEO:59.8618041;17.6382146
X-APPLE-STRUCTURED-LOCATION;VALUE=URI;X-ADDRESS=Nannaskolans aula Kungsgatan 22 Uppsala;X-APPLE-RADIUS=500;X-TITLE=Kungsgatan 22:geo:17.6382146,59.8618041
END:VEVENT
END:VCALENDAR