BEGIN:VCALENDAR
VERSION:2.0
PRODID:-//Gratis Uppsala - ECPv5.2.1//NONSGML v1.0//EN
CALSCALE:GREGORIAN
METHOD:PUBLISH
X-WR-CALNAME:Gratis Uppsala
X-ORIGINAL-URL:https://arkiv.gratisuppsala.se
X-WR-CALDESC:Händelser för Gratis Uppsala
BEGIN:VTIMEZONE
TZID:Europe/Stockholm
BEGIN:DAYLIGHT
TZOFFSETFROM:+0100
TZOFFSETTO:+0200
TZNAME:CEST
DTSTART:20160327T010000
END:DAYLIGHT
BEGIN:STANDARD
TZOFFSETFROM:+0200
TZOFFSETTO:+0100
TZNAME:CET
DTSTART:20161030T010000
END:STANDARD
END:VTIMEZONE
BEGIN:VEVENT
DTSTART;TZID=Europe/Stockholm:20161105T110000
DTEND;TZID=Europe/Stockholm:20161105T150000
DTSTAMP:20260420T195308
CREATED:20160609T080803Z
LAST-MODIFIED:20160609T080803Z
UID:7232-1478343600-1478358000@arkiv.gratisuppsala.se
SUMMARY:Julmarknad Gräsö Gård
DESCRIPTION:Julmarknad Gräsö Gård\nJulmarknad Gräsö Gård\nVälkommen till Gräsö Gårds traditionsenliga julmarknad. Här kan du köpa rökt fisk och kött\, hembakat bröd\, kalvost\, hemslöjd\, träslöjd och mycket mer. \nFörsäljning av varmkorv\, våfflor glögg och kaffe. \n  \nDela evenemanget
URL:https://arkiv.gratisuppsala.se/event/julmarknad-graso-gard/
LOCATION:Öregrund\, Västergatan 14\, Öregrund
CATEGORIES:Marknad & Loppis
GEO:60.3390141;18.4380777
X-APPLE-STRUCTURED-LOCATION;VALUE=URI;X-ADDRESS=Öregrund Västergatan 14 Öregrund;X-APPLE-RADIUS=500;X-TITLE=Västergatan 14:geo:18.4380777,60.3390141
END:VEVENT
END:VCALENDAR