BEGIN:VCALENDAR
VERSION:2.0
PRODID:-//Gratis Uppsala - ECPv5.2.1//NONSGML v1.0//EN
CALSCALE:GREGORIAN
METHOD:PUBLISH
X-WR-CALNAME:Gratis Uppsala
X-ORIGINAL-URL:https://arkiv.gratisuppsala.se
X-WR-CALDESC:Händelser för Gratis Uppsala
BEGIN:VTIMEZONE
TZID:Europe/Stockholm
BEGIN:DAYLIGHT
TZOFFSETFROM:+0100
TZOFFSETTO:+0200
TZNAME:CEST
DTSTART:20170326T010000
END:DAYLIGHT
BEGIN:STANDARD
TZOFFSETFROM:+0200
TZOFFSETTO:+0100
TZNAME:CET
DTSTART:20171029T010000
END:STANDARD
END:VTIMEZONE
BEGIN:VEVENT
DTSTART;TZID=Europe/Stockholm:20171203T110000
DTEND;TZID=Europe/Stockholm:20171203T160000
DTSTAMP:20260421T042741
CREATED:20171128T102642Z
LAST-MODIFIED:20171128T102642Z
UID:20807-1512298800-1512316800@arkiv.gratisuppsala.se
SUMMARY:JULMARKNAD I NÄS-EDEBY
DESCRIPTION:JULMARKNAD I NÄS-EDEBY \nFör tredje året i rad kan du besöka en av årets mest omtänksamma julmarknader. Där kan du hitta allt du kan önska på en klassisk julmarknad med lokala produkter. De har allt från julgranar\, julgrupper och kransar till praliner\, julgodis och hantverk. Här finns lokalproducerade produkter som potatis\, honung och bröd. Här hittar du också Brodera Mera och dessutom ett välsorterat café. Edebys mikrobryggeri kommer att vara öppet. Julmarknaden är till stor del inomhus. \nSöndagen 3 december\n\nPlats: Näs-Edeby\n\n\nÖppettider: 11:00 – 16:00\n\nBild från Pixabay.com \n\n\n Dela evenemanget
URL:https://arkiv.gratisuppsala.se/event/julmarknad-nas-edeby-2/
LOCATION:Näs-Edeby\, Näs-Edeby\, Uppsala\, 75591\, Sverige
CATEGORIES:Marknad & Loppis
ATTACH;FMTTYPE=image/jpeg:https://arkiv.gratisuppsala.se/wp-content/uploads/2017/11/poinsettia-552927_640.jpg
GEO:59.7674596;17.4710121
X-APPLE-STRUCTURED-LOCATION;VALUE=URI;X-ADDRESS=Näs-Edeby Näs-Edeby Uppsala 75591 Sverige;X-APPLE-RADIUS=500;X-TITLE=Näs-Edeby:geo:17.4710121,59.7674596
END:VEVENT
END:VCALENDAR