BEGIN:VCALENDAR
VERSION:2.0
PRODID:-//Gratis Uppsala - ECPv5.2.1//NONSGML v1.0//EN
CALSCALE:GREGORIAN
METHOD:PUBLISH
X-WR-CALNAME:Gratis Uppsala
X-ORIGINAL-URL:https://arkiv.gratisuppsala.se
X-WR-CALDESC:Händelser för Gratis Uppsala
BEGIN:VTIMEZONE
TZID:Europe/Stockholm
BEGIN:DAYLIGHT
TZOFFSETFROM:+0100
TZOFFSETTO:+0200
TZNAME:CEST
DTSTART:20150329T010000
END:DAYLIGHT
BEGIN:STANDARD
TZOFFSETFROM:+0200
TZOFFSETTO:+0100
TZNAME:CET
DTSTART:20151025T010000
END:STANDARD
END:VTIMEZONE
BEGIN:VEVENT
DTSTART;TZID=Europe/Stockholm:20151205T100000
DTEND;TZID=Europe/Stockholm:20151206T170000
DTSTAMP:20260421T023629
CREATED:20150805T082610Z
LAST-MODIFIED:20150805T082610Z
UID:3200-1449309600-1449421200@arkiv.gratisuppsala.se
SUMMARY:Julmarknad på Lövstabruk
DESCRIPTION:Julmarknad i orangeriet och hantverkets hus på Lövstabruk. \nOBS. Tiderna är ungefärliga\, kontrollera på Lövstabruks hemsida. \nDela evenemanget
URL:https://arkiv.gratisuppsala.se/event/julmarknad-pa-lovstabruk/
LOCATION:Herrgården Lövstabruk\, Stora Gatan 33\, Lövstabruk\, 819 66\, Sverige
CATEGORIES:Marknad & Loppis
ATTACH;FMTTYPE=image/jpeg:https://arkiv.gratisuppsala.se/wp-content/uploads/2015/08/Julgranshjärtan.jpg
GEO:60.4087861;17.8786212
X-APPLE-STRUCTURED-LOCATION;VALUE=URI;X-ADDRESS=Herrgården Lövstabruk Stora Gatan 33 Lövstabruk 819 66 Sverige;X-APPLE-RADIUS=500;X-TITLE=Stora Gatan 33:geo:17.8786212,60.4087861
END:VEVENT
END:VCALENDAR