BEGIN:VCALENDAR
VERSION:2.0
PRODID:-//Gratis Uppsala - ECPv5.2.1//NONSGML v1.0//EN
CALSCALE:GREGORIAN
METHOD:PUBLISH
X-WR-CALNAME:Gratis Uppsala
X-ORIGINAL-URL:https://arkiv.gratisuppsala.se
X-WR-CALDESC:Händelser för Gratis Uppsala
BEGIN:VTIMEZONE
TZID:Europe/Stockholm
BEGIN:DAYLIGHT
TZOFFSETFROM:+0100
TZOFFSETTO:+0200
TZNAME:CEST
DTSTART:20150329T010000
END:DAYLIGHT
BEGIN:STANDARD
TZOFFSETFROM:+0200
TZOFFSETTO:+0100
TZNAME:CET
DTSTART:20151025T010000
END:STANDARD
END:VTIMEZONE
BEGIN:VEVENT
DTSTART;TZID=Europe/Stockholm:20151128T120000
DTEND;TZID=Europe/Stockholm:20151128T160000
DTSTAMP:20260422T102603
CREATED:20151108T150256Z
LAST-MODIFIED:20151126T181000Z
UID:4503-1448712000-1448726400@arkiv.gratisuppsala.se
SUMMARY:Julmarknad på Uppsala Konstmuseum
DESCRIPTION:Uppsala Konstmuseum arrangerar julmarknad på Slottet i Vasasalen lördag-söndag 28-29 november. Försäljning av konsthantverk\, design\, vintage och närproducerad mat. Fika och musikunderhållning. \nKl 12-16. Fri entré! \nBild: pixabay.com. \nDela evenemanget
URL:https://arkiv.gratisuppsala.se/event/julmarknad-pa-slottet/
LOCATION:Uppsala konstmuseum\, Drottning Christinas väg 1E\, Uppsala\, 75237 \, Sverige
CATEGORIES:Konst, Fotografi och Design,Marknad & Loppis
ATTACH;FMTTYPE=image/jpeg:https://arkiv.gratisuppsala.se/wp-content/uploads/2015/11/luva_på_notter.jpg
GEO:59.8532935;17.6351313
X-APPLE-STRUCTURED-LOCATION;VALUE=URI;X-ADDRESS=Uppsala konstmuseum Drottning Christinas väg 1E Uppsala 75237  Sverige;X-APPLE-RADIUS=500;X-TITLE=Drottning Christinas väg 1E:geo:17.6351313,59.8532935
END:VEVENT
END:VCALENDAR