BEGIN:VCALENDAR
VERSION:2.0
PRODID:-//Gratis Uppsala - ECPv5.2.1//NONSGML v1.0//EN
CALSCALE:GREGORIAN
METHOD:PUBLISH
X-WR-CALNAME:Gratis Uppsala
X-ORIGINAL-URL:https://arkiv.gratisuppsala.se
X-WR-CALDESC:Händelser för Gratis Uppsala
BEGIN:VTIMEZONE
TZID:Europe/Stockholm
BEGIN:DAYLIGHT
TZOFFSETFROM:+0100
TZOFFSETTO:+0200
TZNAME:CEST
DTSTART:20190331T010000
END:DAYLIGHT
BEGIN:STANDARD
TZOFFSETFROM:+0200
TZOFFSETTO:+0100
TZNAME:CET
DTSTART:20191027T010000
END:STANDARD
END:VTIMEZONE
BEGIN:VEVENT
DTSTART;TZID=Europe/Stockholm:20191130T110000
DTEND;TZID=Europe/Stockholm:20191130T150000
DTSTAMP:20260421T142400
CREATED:20191125T141639Z
LAST-MODIFIED:20191125T141639Z
UID:39767-1575111600-1575126000@arkiv.gratisuppsala.se
SUMMARY:Julmarknad på Tegelbruksmuseet | Heby
DESCRIPTION:Julmarknad på Tegelbruksmuseet | Heby\nVälkommen till julmarknad på Tegelbruksmuseet. Där finns det försäljning av hantverk\, hemlagat\, hembakat och mycket mer. Det bjuds på glögg\, kaffe och hembakat bröd. \nDatum: Lördagen den 30 November 2019\nTid: 11.00-15.00\nPlats: Brogatan 6\, Heby\nÅlder: Ej angivet\nPris: Fri Entré \n  \n\nOm Museet\nTegelbruksmuseet ligger i en gammal byggnad som en gång varit bryggeri. Den är byggd i handslaget tegel från Juhlins tegelbruk\, ett av de äldsta i Heby\, nedlagt cirka 1900. Det är ett mångfacetterat museum där pressar\, redskap\, verktyg\, tegel\, foton med mera berättar om tegelbruk men också om arbetarna och deras tillvaro. \n  \n\nBesök gärna länkarna nedan (externa länkar öppnas i ett nytt fönster/flik).\nMarknad i Heby | Kommande julmarknader \nFoto: Pixabay \nDela evenemanget
URL:https://arkiv.gratisuppsala.se/event/julmarknad-tegelbruksmuseet-2019/
LOCATION:Tegelbruksmuseet\, Brogatan 6\, Uppsala\, Heby\, 74431\, Sverige
CATEGORIES:60+,Ålderskategori,Anmälan / Kostnad,Barn,Eventkategori,Familj,Geografisk kategori,Gratis,Heby Kommun,Högtid,Ingen föranmälan,Jul,Julmarknad,Marknad & Loppis,Mat och Dryck,Museum,Ungdom,Vuxen
ATTACH;FMTTYPE=image/jpeg:https://arkiv.gratisuppsala.se/wp-content/uploads/2019/11/nicholas-4581634_1280-e1574687116339.jpg
ORGANIZER;CN="Tegelbruksmuseet":MAILTO:tegelbruksmuseet@telia.com
END:VEVENT
END:VCALENDAR