BEGIN:VCALENDAR
VERSION:2.0
PRODID:-//Gratis Uppsala - ECPv5.2.1//NONSGML v1.0//EN
CALSCALE:GREGORIAN
METHOD:PUBLISH
X-WR-CALNAME:Gratis Uppsala
X-ORIGINAL-URL:https://arkiv.gratisuppsala.se
X-WR-CALDESC:Händelser för Gratis Uppsala
BEGIN:VTIMEZONE
TZID:Europe/Stockholm
BEGIN:DAYLIGHT
TZOFFSETFROM:+0100
TZOFFSETTO:+0200
TZNAME:CEST
DTSTART:20170326T010000
END:DAYLIGHT
BEGIN:STANDARD
TZOFFSETFROM:+0200
TZOFFSETTO:+0100
TZNAME:CET
DTSTART:20171029T010000
END:STANDARD
END:VTIMEZONE
BEGIN:VEVENT
DTSTART;TZID=Europe/Stockholm:20171203T110000
DTEND;TZID=Europe/Stockholm:20171203T140000
DTSTAMP:20260421T061510
CREATED:20171124T125912Z
LAST-MODIFIED:20171124T130045Z
UID:20720-1512298800-1512309600@arkiv.gratisuppsala.se
SUMMARY:Julmarknad vid Magasinet
DESCRIPTION:Julmarknad vid Magasinet\n\n\n  \nJulmarknad vid Magasinet i Morgongåva söndag den 3 december 11-14 \nKyrkokören kommer ca 12.30\nSkinklotteri\nGranförsäljning \nByalaget bjuder på glögg och pepparkaka \nGodis till alla små. Ta gärna på dig tomteluvan! \nVälkommen önskar Morgongåva byalag \n  \nBild från:pixabay.com \n\n\n\n\n\n Dela evenemanget
URL:https://arkiv.gratisuppsala.se/event/julmarknad-vid-magasinet/
CATEGORIES:Marknad & Loppis
ATTACH;FMTTYPE=image/jpeg:https://arkiv.gratisuppsala.se/wp-content/uploads/2017/11/christmas-market-1864241_640.jpg
ORGANIZER;CN="Heby%20Kommun":MAILTO:information@heby.se
END:VEVENT
END:VCALENDAR