BEGIN:VCALENDAR
VERSION:2.0
PRODID:-//Gratis Uppsala - ECPv5.2.1//NONSGML v1.0//EN
CALSCALE:GREGORIAN
METHOD:PUBLISH
X-WR-CALNAME:Gratis Uppsala
X-ORIGINAL-URL:https://arkiv.gratisuppsala.se
X-WR-CALDESC:Händelser för Gratis Uppsala
BEGIN:VTIMEZONE
TZID:Europe/Stockholm
BEGIN:DAYLIGHT
TZOFFSETFROM:+0100
TZOFFSETTO:+0200
TZNAME:CEST
DTSTART:20150329T010000
END:DAYLIGHT
BEGIN:STANDARD
TZOFFSETFROM:+0200
TZOFFSETTO:+0100
TZNAME:CET
DTSTART:20151025T010000
END:STANDARD
END:VTIMEZONE
BEGIN:VEVENT
DTSTART;TZID=Europe/Stockholm:20151205T130000
DTEND;TZID=Europe/Stockholm:20151205T130000
DTSTAMP:20260420T190307
CREATED:20151130T083835Z
LAST-MODIFIED:20151201T112443Z
UID:4980-1449320400-1449320400@arkiv.gratisuppsala.se
SUMMARY:Julpyssel
DESCRIPTION:Julpyssel på Storvretabiblioteket lördag 5 december kl 13. \nJultomtar\, julkort och annat juligt pyssel. För barn 6 – 12 år. \nFöranmälan till biblioteket. \nBild: pixabay.com. \n  \nDela evenemanget
URL:https://arkiv.gratisuppsala.se/event/julpyssel/
LOCATION:Storvretabiblioteket\, Fullerövägen 1\, Storvreta\, Sverige
ATTACH;FMTTYPE=image/jpeg:https://arkiv.gratisuppsala.se/wp-content/uploads/2015/11/gran_knappar.jpg
ORGANIZER;CN="Bibliotek%20Uppsala":MAILTO:kundtjanst@bibliotekuppsala.se
END:VEVENT
END:VCALENDAR