BEGIN:VCALENDAR
VERSION:2.0
PRODID:-//Gratis Uppsala - ECPv5.2.1//NONSGML v1.0//EN
CALSCALE:GREGORIAN
METHOD:PUBLISH
X-WR-CALNAME:Gratis Uppsala
X-ORIGINAL-URL:https://arkiv.gratisuppsala.se
X-WR-CALDESC:Händelser för Gratis Uppsala
BEGIN:VTIMEZONE
TZID:Europe/Stockholm
BEGIN:DAYLIGHT
TZOFFSETFROM:+0100
TZOFFSETTO:+0200
TZNAME:CEST
DTSTART:20150329T010000
END:DAYLIGHT
BEGIN:STANDARD
TZOFFSETFROM:+0200
TZOFFSETTO:+0100
TZNAME:CET
DTSTART:20151025T010000
END:STANDARD
END:VTIMEZONE
BEGIN:VEVENT
DTSTART;TZID=Europe/Stockholm:20151210T150000
DTEND;TZID=Europe/Stockholm:20151210T160000
DTSTAMP:20260420T024200
CREATED:20151208T083305Z
LAST-MODIFIED:20151208T085254Z
UID:5133-1449759600-1449763200@arkiv.gratisuppsala.se
SUMMARY:Julpyssla i Gottsunda
DESCRIPTION:Varje måndag och torsdag mellan 23 november och 21 december julpysslas det i Gottsunda centrum. \nAllt du kan tänkas behöva för att få ur dig all pyssellust finns på plats och det kostar ingenting. Fixa hela granens pynt och ordna en julklapp till farmor när du ändå är i gång! \nPlats: mellan Lindex och Triller i Gottsunda centrum. \nBild: svenskakyrkan.se. \nDela evenemanget
URL:https://arkiv.gratisuppsala.se/event/julpyssla-i-gottsunda/
LOCATION:Gottsunda Centrum\, Valthornsvägen 11 \, Uppsala\, 75025 \, Sverige
ATTACH;FMTTYPE=image/jpeg:https://arkiv.gratisuppsala.se/wp-content/uploads/2015/12/julpyssel11.jpg
END:VEVENT
END:VCALENDAR