BEGIN:VCALENDAR
VERSION:2.0
PRODID:-//Gratis Uppsala - ECPv5.2.1//NONSGML v1.0//EN
CALSCALE:GREGORIAN
METHOD:PUBLISH
X-WR-CALNAME:Gratis Uppsala
X-ORIGINAL-URL:https://arkiv.gratisuppsala.se
X-WR-CALDESC:Händelser för Gratis Uppsala
BEGIN:VTIMEZONE
TZID:Europe/Stockholm
BEGIN:DAYLIGHT
TZOFFSETFROM:+0100
TZOFFSETTO:+0200
TZNAME:CEST
DTSTART:20160327T010000
END:DAYLIGHT
BEGIN:STANDARD
TZOFFSETFROM:+0200
TZOFFSETTO:+0100
TZNAME:CET
DTSTART:20161030T010000
END:STANDARD
END:VTIMEZONE
BEGIN:VEVENT
DTSTART;TZID=Europe/Stockholm:20161211T090000
DTEND;TZID=Europe/Stockholm:20161211T190000
DTSTAMP:20260420T150800
CREATED:20161103T133631Z
LAST-MODIFIED:20161103T133631Z
UID:9261-1481446800-1481482800@arkiv.gratisuppsala.se
SUMMARY:JULSHOW/JULAVSLUTNING
DESCRIPTION:Julshow/Julavslutning \nGränby A-hall \nDen här aktiviteten tillhör kalender “USK Kalender” \nDela evenemanget
URL:https://arkiv.gratisuppsala.se/event/julshowjulavslutning/
LOCATION:Gränby ishall\, Råbyvägen 71\, Uppsala\, 754 30\, Sverige
ATTACH;FMTTYPE=image/jpeg:https://arkiv.gratisuppsala.se/wp-content/uploads/2016/11/Uppvisning-Kungsbacka-Konståkning-30.jpg
GEO:59.8802357;17.6565891
X-APPLE-STRUCTURED-LOCATION;VALUE=URI;X-ADDRESS=Gränby ishall Råbyvägen 71 Uppsala 754 30 Sverige;X-APPLE-RADIUS=500;X-TITLE=Råbyvägen 71:geo:17.6565891,59.8802357
END:VEVENT
END:VCALENDAR