BEGIN:VCALENDAR
VERSION:2.0
PRODID:-//Gratis Uppsala - ECPv5.2.1//NONSGML v1.0//EN
CALSCALE:GREGORIAN
METHOD:PUBLISH
X-WR-CALNAME:Gratis Uppsala
X-ORIGINAL-URL:https://arkiv.gratisuppsala.se
X-WR-CALDESC:Händelser för Gratis Uppsala
BEGIN:VTIMEZONE
TZID:Europe/Stockholm
BEGIN:DAYLIGHT
TZOFFSETFROM:+0100
TZOFFSETTO:+0200
TZNAME:CEST
DTSTART:20160327T010000
END:DAYLIGHT
BEGIN:STANDARD
TZOFFSETFROM:+0200
TZOFFSETTO:+0100
TZNAME:CET
DTSTART:20161030T010000
END:STANDARD
END:VTIMEZONE
BEGIN:VEVENT
DTSTART;TZID=Europe/Stockholm:20160508T150000
DTEND;TZID=Europe/Stockholm:20160508T150000
DTSTAMP:20260419T185455
CREATED:20160127T103053Z
LAST-MODIFIED:20160127T103528Z
UID:5984-1462719600-1462719600@arkiv.gratisuppsala.se
SUMMARY:KAIPA Da Capo på Kulturoasen
DESCRIPTION:KAIPA Da Capo tillbaka på Kulturoasen! \nMellan 1974 och 1980 hade den symfoniska rockgruppen KAIPA sin storhetstid – idag är de kult\noch en levande bit av Svensk rockhistoria vid sidan av band som Kebnekaise\, Hoola Bandoola\, November och Pugh Rogefelt.\nFyra (och senare 5) unga musiker åkte Sverige runt i en ombyggd militärbuss och spelade\npompösa toner på landets musikforum\, jazzklubbar  och skolor.\nKaipa gjorde ett flertal live- framträdande i direktsända radioprogram Tonkraft  och ungdomsredaktionen i Malmö och även några TV framträdanden. \nKaipa gav ut 3 plattor på DECCA etiketten samt en LP på Polar (Stickan Anderson/ABBA’s bolag) de var vid tillfället  relativt ensamma i Sverige om att spela symfonirock i en tid präglad av politisk rock – och i synnerhet slog ingen bandet när det gäller  den otroligt ambitiösa turneverksamheten med ibland närmare 150 spelningar om året. Kaipa var tillsammans med  kollegorna i Samla Mammas Manna under åren 74-80 Uppsalas stoltheter. \nIngemar Bergman – Trummor\nTomas Eriksson – Bas\nRoine Stolt – Gitarr & Sång\nMichael Stolt – Gitarr\, Keyboard & Leadsång\nMax Lorentz – Hammond & Synth & sång \nFrivillig entré (inte att förväxla med gratis\, vi förväntar oss att ni lägger ett generöst bidrag i skålen av den enkla anledningen att även musiker och artister arbetar) \nDela evenemanget
URL:https://arkiv.gratisuppsala.se/event/kaipa-da-capo/
LOCATION:Kulturoasen\, Hågavägen 190\, Uppsala
CATEGORIES:Sång och Musik
ATTACH;FMTTYPE=image/jpeg:https://arkiv.gratisuppsala.se/wp-content/uploads/2016/01/Kaipa-poster-2015-Håga--e1453890908158.jpg
GEO:59.8381745;17.5761698
X-APPLE-STRUCTURED-LOCATION;VALUE=URI;X-ADDRESS=Kulturoasen Hågavägen 190 Uppsala;X-APPLE-RADIUS=500;X-TITLE=Hågavägen 190:geo:17.5761698,59.8381745
END:VEVENT
END:VCALENDAR