BEGIN:VCALENDAR
VERSION:2.0
PRODID:-//Gratis Uppsala - ECPv5.2.1//NONSGML v1.0//EN
CALSCALE:GREGORIAN
METHOD:PUBLISH
X-WR-CALNAME:Gratis Uppsala
X-ORIGINAL-URL:https://arkiv.gratisuppsala.se
X-WR-CALDESC:Händelser för Gratis Uppsala
BEGIN:VTIMEZONE
TZID:Europe/Stockholm
BEGIN:DAYLIGHT
TZOFFSETFROM:+0100
TZOFFSETTO:+0200
TZNAME:CEST
DTSTART:20160327T010000
END:DAYLIGHT
BEGIN:STANDARD
TZOFFSETFROM:+0200
TZOFFSETTO:+0100
TZNAME:CET
DTSTART:20161030T010000
END:STANDARD
END:VTIMEZONE
BEGIN:VEVENT
DTSTART;TZID=Europe/Stockholm:20161009T140000
DTEND;TZID=Europe/Stockholm:20161009T144500
DTSTAMP:20260419T201444
CREATED:20161007T090900Z
LAST-MODIFIED:20161007T090900Z
UID:8775-1476021600-1476024300@arkiv.gratisuppsala.se
SUMMARY:Kalevalaskåpet - finska sagoskatter!.Teaterföreställning för barnfamiljer. Njut av finska sagoskatter!
DESCRIPTION:Glittrande finska sagoskatter! \nTeater Sláva är presenterar stolt en sagoteater fylld av det stolta finska eposets minsta pärlor. Föreställningen passar både svenskspråkiga och tvåspråkiga barn och familjer.\nLokal: Kulturpunktens scen mittemot Gottsundabiblioteket.\nIngen föranmälan. Fri entré.\nSamarr: Teater Sláva\, Gottsundabiblioteket och Kulturpunkten \nDela evenemanget
URL:https://arkiv.gratisuppsala.se/event/kalevalaskapet-finska-sagoskatter-teaterforestallning-barnfamiljer-njut-av-finska-sagoskatter/
LOCATION:Kontakten\, Gottsunda Kulturhus\, Valtornsvägen 7\, Uppsala\, 756 50\, Sverige
CATEGORIES:Dans,Teater och Bio
ATTACH;FMTTYPE=image/jpeg:https://arkiv.gratisuppsala.se/wp-content/uploads/2016/10/sagoskatter.jpg
GEO:59.8101508;17.6290772
X-APPLE-STRUCTURED-LOCATION;VALUE=URI;X-ADDRESS=Kontakten Gottsunda Kulturhus Valtornsvägen 7 Uppsala 756 50 Sverige;X-APPLE-RADIUS=500;X-TITLE=Valtornsvägen 7:geo:17.6290772,59.8101508
END:VEVENT
END:VCALENDAR