BEGIN:VCALENDAR
VERSION:2.0
PRODID:-//Gratis Uppsala - ECPv5.2.1//NONSGML v1.0//EN
CALSCALE:GREGORIAN
METHOD:PUBLISH
X-WR-CALNAME:Gratis Uppsala
X-ORIGINAL-URL:https://arkiv.gratisuppsala.se
X-WR-CALDESC:Händelser för Gratis Uppsala
BEGIN:VTIMEZONE
TZID:Europe/Stockholm
BEGIN:DAYLIGHT
TZOFFSETFROM:+0100
TZOFFSETTO:+0200
TZNAME:CEST
DTSTART:20170326T010000
END:DAYLIGHT
BEGIN:STANDARD
TZOFFSETFROM:+0200
TZOFFSETTO:+0100
TZNAME:CET
DTSTART:20171029T010000
END:STANDARD
END:VTIMEZONE
BEGIN:VEVENT
DTSTART;TZID=Europe/Stockholm:20170215T180000
DTEND;TZID=Europe/Stockholm:20170215T193000
DTSTAMP:20260420T183649
CREATED:20170208T121930Z
LAST-MODIFIED:20170210T131326Z
UID:11275-1487181600-1487187000@arkiv.gratisuppsala.se
SUMMARY:Podcast - Kan du inte bara rycka upp dig?
DESCRIPTION:Pillerpodden livepoddar på biblioteket\nHur är det att vara ung idag? Tillsammans med livsstilsbloggaren Ellinor Löfgren kommer Pillerpodden livepodda på biblioteket. Temat är normer\, krav\, fördomar och hur det är att vara ung idag. Det blir en timme av ren pepp\, där publiken också kan ställa frågor. \n\n\n\nPillerpodden är inte bara Uppsalas största podcast\, de brinner också för ungdomars rätt till att få prata om sina känslor och har idag växt till en inflytelserik röst i samhällsdebatten. I 130 avsnitt har de i sin podd pratat öppet om sin egen psykiska ohälsa och livet runt omkring. Podden har blivit en offentlig dagbok där få saker utelämnas och blir osagda i strävan efter att hitta maximal lycka mellan ångesten. Hur mycket får man skratta när man är deprimerad? Är det okej att ta antidepp på restaurang? Finns söndagsångest? \nEllinor Löfgren är en stor profil på social media som följs av flera tusen ungdomar över hela landet. Tillsammans kommer de i Pillerpoddens livepodd prata om normer\, krav\, fördomar och hur det är att vara ung idag. Det blir en timme av ren pepp\, där publiken också kan ställa frågor. \nTid och plats \nOnsdag 15 februari kl. 18.00 \nStadsbiblioteket\, Mallas sal \nFri entré\, gratisbiljetter finns att reservera i Stadsbibliotekets reception\, tel: 018-727 17 00\, och hämtas senast 30 minuter innan programmets start. \n\n  \nBilden är hämtad från Google bilder \nDela evenemanget
URL:https://arkiv.gratisuppsala.se/event/kan-du-inte-bara-rycka-upp-dig/
LOCATION:Stadsbiblioteket\, Svartbäcksgatan 17\, Uppsala\, 75320\, Sverige
CATEGORIES:Kropp och Själ,Litteratur och Poesi,Samhälle
ATTACH;FMTTYPE=image/jpeg:https://arkiv.gratisuppsala.se/wp-content/uploads/2017/02/Podcast.jpg
GEO:59.8606206;17.6353278
X-APPLE-STRUCTURED-LOCATION;VALUE=URI;X-ADDRESS=Stadsbiblioteket Svartbäcksgatan 17 Uppsala 75320 Sverige;X-APPLE-RADIUS=500;X-TITLE=Svartbäcksgatan 17:geo:17.6353278,59.8606206
END:VEVENT
END:VCALENDAR