BEGIN:VCALENDAR
VERSION:2.0
PRODID:-//Gratis Uppsala - ECPv5.2.1//NONSGML v1.0//EN
CALSCALE:GREGORIAN
METHOD:PUBLISH
X-WR-CALNAME:Gratis Uppsala
X-ORIGINAL-URL:https://arkiv.gratisuppsala.se
X-WR-CALDESC:Händelser för Gratis Uppsala
BEGIN:VTIMEZONE
TZID:Europe/Stockholm
BEGIN:DAYLIGHT
TZOFFSETFROM:+0100
TZOFFSETTO:+0200
TZNAME:CEST
DTSTART:20180325T010000
END:DAYLIGHT
BEGIN:STANDARD
TZOFFSETFROM:+0200
TZOFFSETTO:+0100
TZNAME:CET
DTSTART:20181028T010000
END:STANDARD
END:VTIMEZONE
BEGIN:VEVENT
DTSTART;TZID=Europe/Stockholm:20180222T183000
DTEND;TZID=Europe/Stockholm:20180222T183000
DTSTAMP:20260420T224213
CREATED:20180221T114045Z
LAST-MODIFIED:20180221T114045Z
UID:22703-1519324200-1519324200@arkiv.gratisuppsala.se
SUMMARY:Karaokescenen är din!
DESCRIPTION:Karaokescenen är din!\nBesök Håbo bibliotek och sjung karaoke! Fyra torsdagkvällar under våren ljuder toner ur sångglada strupar! Kom och upptäck sångskatter från världens alla hörn! \nTid och plats\nTorsdagar 22 februari\, 22 mars\, 19 april och 17 maj\nKlockan 18.30\nHåbo bibliotek \nBild från pixabay.com \nDela evenemanget
URL:https://arkiv.gratisuppsala.se/event/karaokescenen-ar-din/2018-02-22/
LOCATION:Håbo bibliotek\, Centrumgränd 5\, Bålsta
CATEGORIES:Litteratur och Poesi,Sång och Musik
ATTACH;FMTTYPE=image/png:https://arkiv.gratisuppsala.se/wp-content/uploads/2018/02/karaoke-160752_640.png
ORGANIZER;CN="H%C3%A5bo%20bibliotek":MAILTO:sara.hallstrom@habo.se
GEO:59.5665139;17.5271736
X-APPLE-STRUCTURED-LOCATION;VALUE=URI;X-ADDRESS=Håbo bibliotek Centrumgränd 5 Bålsta;X-APPLE-RADIUS=500;X-TITLE=Centrumgränd 5:geo:17.5271736,59.5665139
END:VEVENT
END:VCALENDAR