BEGIN:VCALENDAR
VERSION:2.0
PRODID:-//Gratis Uppsala - ECPv5.2.1//NONSGML v1.0//EN
CALSCALE:GREGORIAN
METHOD:PUBLISH
X-WR-CALNAME:Gratis Uppsala
X-ORIGINAL-URL:https://arkiv.gratisuppsala.se
X-WR-CALDESC:Händelser för Gratis Uppsala
BEGIN:VTIMEZONE
TZID:Europe/Stockholm
BEGIN:DAYLIGHT
TZOFFSETFROM:+0100
TZOFFSETTO:+0200
TZNAME:CEST
DTSTART:20160327T010000
END:DAYLIGHT
BEGIN:STANDARD
TZOFFSETFROM:+0200
TZOFFSETTO:+0100
TZNAME:CET
DTSTART:20161030T010000
END:STANDARD
END:VTIMEZONE
BEGIN:VEVENT
DTSTART;TZID=Europe/Stockholm:20160514T160000
DTEND;TZID=Europe/Stockholm:20160511T180000
DTSTAMP:20260421T161618
CREATED:20160511T092106Z
LAST-MODIFIED:20160511T092106Z
UID:6943-1463241600-1462989600@arkiv.gratisuppsala.se
SUMMARY:Katalins Lördagsjazz
DESCRIPTION:Katalins Lördagsjazz gästas den här gången av Thomas Driving & Hans Loelv Trio. \nTrumpetaren Thomas Driving kommer och svänger tillsammans med jazzpianisten Hans Loelv\, Per V Johansson på bas och Håkan Jansson bakom trummorna. \nPuben hos Katalin\, lördag 14 maj kl 15. \nFri entré med frivillig orkesterslant. \nBild: pixabay.com. \nDela evenemanget
URL:https://arkiv.gratisuppsala.se/event/katalins-lordagsjazz/
LOCATION:Katalin\, Roslagsgatan 1\, Uppsala\, 753 27\, Sverige
CATEGORIES:Sång och Musik
ATTACH;FMTTYPE=image/jpeg:https://arkiv.gratisuppsala.se/wp-content/uploads/2016/05/trumpetare.jpg
ORGANIZER;CN="Katalin":MAILTO:info@katalin.com
END:VEVENT
END:VCALENDAR