BEGIN:VCALENDAR
VERSION:2.0
PRODID:-//Gratis Uppsala - ECPv5.2.1//NONSGML v1.0//EN
CALSCALE:GREGORIAN
METHOD:PUBLISH
X-WR-CALNAME:Gratis Uppsala
X-ORIGINAL-URL:https://arkiv.gratisuppsala.se
X-WR-CALDESC:Händelser för Gratis Uppsala
BEGIN:VTIMEZONE
TZID:Europe/Stockholm
BEGIN:DAYLIGHT
TZOFFSETFROM:+0100
TZOFFSETTO:+0200
TZNAME:CEST
DTSTART:20170326T010000
END:DAYLIGHT
BEGIN:STANDARD
TZOFFSETFROM:+0200
TZOFFSETTO:+0100
TZNAME:CET
DTSTART:20171029T010000
END:STANDARD
END:VTIMEZONE
BEGIN:VEVENT
DTSTART;TZID=Europe/Stockholm:20170429T120000
DTEND;TZID=Europe/Stockholm:20170429T170000
DTSTAMP:20260420T195916
CREATED:20170412T113507Z
LAST-MODIFIED:20170426T090758Z
UID:13310-1493467200-1493485200@arkiv.gratisuppsala.se
SUMMARY:International Tabletop day: Kings of War
DESCRIPTION:International Tabletop day: Kings of War på Stadsbiblioteket. \n\n\nKings of War är ett tabletop krigsspel där minst två personer spelar emot varandra med små arméer av små fantasifulla figurer.\nKungadömet Mark hotas av en invasion av orcher och illvättar!\nKom och hjälp antingen människorna att försvara sig eller grönskinnen att invadera! \n\n\nLördag 29 april kl 11.00-16.00 kan du ta chansen och vara med i figurspelet. Tony\, Erik och Mats visar hur det går till. \nHär på bibliotek Uppsalas hemsida kan du läsa mer om evenemanget. \n  \nBild: youtube.com \nDela evenemanget
URL:https://arkiv.gratisuppsala.se/event/kings-of-war/
LOCATION:Stadsbiblioteket\, Svartbäcksgatan 17\, Uppsala\, 75320\, Sverige
CATEGORIES:Litteratur och Poesi
ATTACH;FMTTYPE=image/jpeg:https://arkiv.gratisuppsala.se/wp-content/uploads/2017/04/kings_of_war.jpg
ORGANIZER;CN="Bibliotek%20Uppsala":MAILTO:kundtjanst@bibliotekuppsala.se
GEO:59.8606206;17.6353278
X-APPLE-STRUCTURED-LOCATION;VALUE=URI;X-ADDRESS=Stadsbiblioteket Svartbäcksgatan 17 Uppsala 75320 Sverige;X-APPLE-RADIUS=500;X-TITLE=Svartbäcksgatan 17:geo:17.6353278,59.8606206
END:VEVENT
END:VCALENDAR