BEGIN:VCALENDAR
VERSION:2.0
PRODID:-//Gratis Uppsala - ECPv5.2.1//NONSGML v1.0//EN
CALSCALE:GREGORIAN
METHOD:PUBLISH
X-WR-CALNAME:Gratis Uppsala
X-ORIGINAL-URL:https://arkiv.gratisuppsala.se
X-WR-CALDESC:Händelser för Gratis Uppsala
BEGIN:VTIMEZONE
TZID:Europe/Stockholm
BEGIN:DAYLIGHT
TZOFFSETFROM:+0100
TZOFFSETTO:+0200
TZNAME:CEST
DTSTART:20180325T010000
END:DAYLIGHT
BEGIN:STANDARD
TZOFFSETFROM:+0200
TZOFFSETTO:+0100
TZNAME:CET
DTSTART:20181028T010000
END:STANDARD
END:VTIMEZONE
BEGIN:VEVENT
DTSTART;TZID=Europe/Stockholm:20180120T190000
DTEND;TZID=Europe/Stockholm:20180120T190000
DTSTAMP:20260420T130413
CREATED:20171128T122923Z
LAST-MODIFIED:20171128T123333Z
UID:18066-1516474800-1516474800@arkiv.gratisuppsala.se
SUMMARY:Knutmasso i Österbybruk 2018
DESCRIPTION:Knutmasso i Österbybruk 2018\nÖsterby Knutmassoförening bjuder in alla till Centrumtorget i Österbybruk lördag 20 januari för att beskåda alla knutgubbar. Det blir dans kring granen för de små och senare på kvällen även dans i Folkets hus. \nDans kring granen kl 19. Knutgubbar måste vara på plats senast kl 20 för att kunna bedömas av juryn. \nÖsterby Knutmassoförening hälsar alla varmt välkomna \nBild från flick.com \nDela evenemanget
URL:https://arkiv.gratisuppsala.se/event/knutmasso-i-osterbybruk-2018/
LOCATION:Centrumtorget\, Centrumtorget\, Österbybruk\, 748 22\, Sverige
CATEGORIES:60+,Uppvisning,Utflykt / Picknick,Vuxen
ATTACH;FMTTYPE=image/jpeg:https://arkiv.gratisuppsala.se/wp-content/uploads/2017/09/knutmasso.jpg
END:VEVENT
END:VCALENDAR