BEGIN:VCALENDAR
VERSION:2.0
PRODID:-//Gratis Uppsala - ECPv5.2.1//NONSGML v1.0//EN
CALSCALE:GREGORIAN
METHOD:PUBLISH
X-WR-CALNAME:Gratis Uppsala
X-ORIGINAL-URL:https://arkiv.gratisuppsala.se
X-WR-CALDESC:Händelser för Gratis Uppsala
BEGIN:VTIMEZONE
TZID:Europe/Stockholm
BEGIN:DAYLIGHT
TZOFFSETFROM:+0100
TZOFFSETTO:+0200
TZNAME:CEST
DTSTART:20170326T010000
END:DAYLIGHT
BEGIN:STANDARD
TZOFFSETFROM:+0200
TZOFFSETTO:+0100
TZNAME:CET
DTSTART:20171029T010000
END:STANDARD
END:VTIMEZONE
BEGIN:VEVENT
DTSTART;TZID=Europe/Stockholm:20171101T170000
DTEND;TZID=Europe/Stockholm:20171101T200000
DTSTAMP:20260420T180725
CREATED:20171030T123246Z
LAST-MODIFIED:20171030T123637Z
UID:19572-1509555600-1509566400@arkiv.gratisuppsala.se
SUMMARY:Höstlov: Kom om du törs!
DESCRIPTION:Evolutionsmuseet Paleontologi i mörker\nEvolutionsmuseet Paleontologi släcker ned sina museisalar så att du får uppleva föremålen i ficklampans sken. Kom gärna utklädd och ta med egen ficklampa om du har. \nVälkommen\, om du törs! \nTid och plats\nOnsdag 1 november klockan 17:00-20:00\nEvolutionsmuseet Paleontologi \nBild från google.se \nDela evenemanget
URL:https://arkiv.gratisuppsala.se/event/kom-om-du-tors/
LOCATION:Evolutionsmuseet Paleontologi\, Norbyvägen 22\, Uppsala\, 752 36
CATEGORIES:Höstlov,Museum,Öppet Hus
ATTACH;FMTTYPE=image/jpeg:https://arkiv.gratisuppsala.se/wp-content/uploads/2017/02/Paleontologen-e1490185949230.jpg
GEO:59.8492454;17.622122
X-APPLE-STRUCTURED-LOCATION;VALUE=URI;X-ADDRESS=Evolutionsmuseet Paleontologi Norbyvägen 22 Uppsala 752 36;X-APPLE-RADIUS=500;X-TITLE=Norbyvägen 22:geo:17.622122,59.8492454
END:VEVENT
END:VCALENDAR