BEGIN:VCALENDAR
VERSION:2.0
PRODID:-//Gratis Uppsala - ECPv5.2.1//NONSGML v1.0//EN
CALSCALE:GREGORIAN
METHOD:PUBLISH
X-WR-CALNAME:Gratis Uppsala
X-ORIGINAL-URL:https://arkiv.gratisuppsala.se
X-WR-CALDESC:Händelser för Gratis Uppsala
BEGIN:VTIMEZONE
TZID:Europe/Stockholm
BEGIN:DAYLIGHT
TZOFFSETFROM:+0100
TZOFFSETTO:+0200
TZNAME:CEST
DTSTART:20180325T010000
END:DAYLIGHT
BEGIN:STANDARD
TZOFFSETFROM:+0200
TZOFFSETTO:+0100
TZNAME:CET
DTSTART:20181028T010000
END:STANDARD
END:VTIMEZONE
BEGIN:VEVENT
DTSTART;TZID=Europe/Stockholm:20180224T140000
DTEND;TZID=Europe/Stockholm:20180224T150000
DTSTAMP:20260420T205747
CREATED:20180221T114957Z
LAST-MODIFIED:20180221T114957Z
UID:22711-1519480800-1519484400@arkiv.gratisuppsala.se
SUMMARY:Konsert med Ellen Arkbro
DESCRIPTION:Konsert med Ellen Arkbro\nBesök Uppsala Konstmuseum och lyssna på en konsert med Ellen Arkbro. \nEllen Arkbro är tonsättare och ljudkonstnär från Stockholm. 2017 släppte hon sin debutskiva på Subtext Recordings med inspelningar av musik för orgel och brassinstrument. På senare tid har Arkbro framfört ny musik för orgel och elektronik runt om i Europa. \nTid och plats\nLördag 24/2 14.00–15.00\nUppsala konstmuseum Våning 3\nFri entré \nBild från commons.wikimedia.org \nDela evenemanget
URL:https://arkiv.gratisuppsala.se/event/konsert-med-ellen-arkbro/
LOCATION:Uppsala konstmuseum\, Drottning Christinas väg 1E\, Uppsala\, 75237 \, Sverige
CATEGORIES:Konsert,Museum
ATTACH;FMTTYPE=image/jpeg:https://arkiv.gratisuppsala.se/wp-content/uploads/2018/02/EllenArkbro.jpg
GEO:59.8532935;17.6351313
X-APPLE-STRUCTURED-LOCATION;VALUE=URI;X-ADDRESS=Uppsala konstmuseum Drottning Christinas väg 1E Uppsala 75237  Sverige;X-APPLE-RADIUS=500;X-TITLE=Drottning Christinas väg 1E:geo:17.6351313,59.8532935
END:VEVENT
END:VCALENDAR