BEGIN:VCALENDAR
VERSION:2.0
PRODID:-//Gratis Uppsala - ECPv5.2.1//NONSGML v1.0//EN
CALSCALE:GREGORIAN
METHOD:PUBLISH
X-WR-CALNAME:Gratis Uppsala
X-ORIGINAL-URL:https://arkiv.gratisuppsala.se
X-WR-CALDESC:Händelser för Gratis Uppsala
BEGIN:VTIMEZONE
TZID:Europe/Stockholm
BEGIN:DAYLIGHT
TZOFFSETFROM:+0100
TZOFFSETTO:+0200
TZNAME:CEST
DTSTART:20160327T010000
END:DAYLIGHT
BEGIN:STANDARD
TZOFFSETFROM:+0200
TZOFFSETTO:+0100
TZNAME:CET
DTSTART:20161030T010000
END:STANDARD
END:VTIMEZONE
BEGIN:VEVENT
DTSTART;TZID=Europe/Stockholm:20160611T200000
DTEND;TZID=Europe/Stockholm:20160611T213000
DTSTAMP:20260421T081855
CREATED:20160610T073247Z
LAST-MODIFIED:20160610T073338Z
UID:7247-1465675200-1465680600@arkiv.gratisuppsala.se
SUMMARY:Konsert  med Glasgow University Chapel Choir
DESCRIPTION:Körkonsert i Uppsala Domkyrka med Glasgow University Chapel Choir. \nDirigent Katy Lavinia Cooper. \nLördag 11 juni kl. 19:00 – 20:30 \n\nFri entré\, kollekt \nVälkomna! \n\n Dela evenemanget
URL:https://arkiv.gratisuppsala.se/event/konsert-med-glasgow-univerity-chapel-choir/
LOCATION:Uppsala domkyrka\, Domkyrkoplan 5\, Uppsala\, 75310\, Sverige
CATEGORIES:Sång och Musik
ATTACH;FMTTYPE=image/jpeg:https://arkiv.gratisuppsala.se/wp-content/uploads/2016/05/society-920567_960_720.jpg
GEO:59.8584471;17.6332992
X-APPLE-STRUCTURED-LOCATION;VALUE=URI;X-ADDRESS=Uppsala domkyrka Domkyrkoplan 5 Uppsala 75310 Sverige;X-APPLE-RADIUS=500;X-TITLE=Domkyrkoplan 5:geo:17.6332992,59.8584471
END:VEVENT
END:VCALENDAR