BEGIN:VCALENDAR
VERSION:2.0
PRODID:-//Gratis Uppsala - ECPv5.2.1//NONSGML v1.0//EN
CALSCALE:GREGORIAN
METHOD:PUBLISH
X-WR-CALNAME:Gratis Uppsala
X-ORIGINAL-URL:https://arkiv.gratisuppsala.se
X-WR-CALDESC:Händelser för Gratis Uppsala
BEGIN:VTIMEZONE
TZID:Europe/Stockholm
BEGIN:DAYLIGHT
TZOFFSETFROM:+0100
TZOFFSETTO:+0200
TZNAME:CEST
DTSTART:20160327T010000
END:DAYLIGHT
BEGIN:STANDARD
TZOFFSETFROM:+0200
TZOFFSETTO:+0100
TZNAME:CET
DTSTART:20161030T010000
END:STANDARD
END:VTIMEZONE
BEGIN:VEVENT
DTSTART;TZID=Europe/Stockholm:20160128T190000
DTEND;TZID=Europe/Stockholm:20160128T201500
DTSTAMP:20260420T004728
CREATED:20160122T103033Z
LAST-MODIFIED:20160125T112809Z
UID:5861-1454007600-1454012100@arkiv.gratisuppsala.se
SUMMARY:Konsert med stjärnpianisten Göran Holm
DESCRIPTION:Under våren ges tillfälle att mötas\, samtala\, skapa eller dela en upplevelse tillsammans på torsdagskvällar i Årstakyrkan. \nTorsdag 28 januari spelar pianisten Göran Holm musik av bl a Chopin\, Skrjabin och Haydn. \nTiden är kl 19.00. Fritt inträde. \nVälkomna! \nDela evenemanget
URL:https://arkiv.gratisuppsala.se/event/konsert-med-stjarnpianisten-goran-holm/
LOCATION:Årstakyrkan\, Sparrisgatan 9\, Uppsala\, 754 46\, Sverige
CATEGORIES:Sång och Musik
ATTACH;FMTTYPE=image/jpeg:https://arkiv.gratisuppsala.se/wp-content/uploads/2015/10/guldnotor.jpg
GEO:59.8660391;17.6857328
X-APPLE-STRUCTURED-LOCATION;VALUE=URI;X-ADDRESS=Årstakyrkan Sparrisgatan 9 Uppsala 754 46 Sverige;X-APPLE-RADIUS=500;X-TITLE=Sparrisgatan 9:geo:17.6857328,59.8660391
END:VEVENT
END:VCALENDAR