BEGIN:VCALENDAR
VERSION:2.0
PRODID:-//Gratis Uppsala - ECPv5.2.1//NONSGML v1.0//EN
CALSCALE:GREGORIAN
METHOD:PUBLISH
X-WR-CALNAME:Gratis Uppsala
X-ORIGINAL-URL:https://arkiv.gratisuppsala.se
X-WR-CALDESC:Händelser för Gratis Uppsala
BEGIN:VTIMEZONE
TZID:Europe/Stockholm
BEGIN:DAYLIGHT
TZOFFSETFROM:+0100
TZOFFSETTO:+0200
TZNAME:CEST
DTSTART:20170326T010000
END:DAYLIGHT
BEGIN:STANDARD
TZOFFSETFROM:+0200
TZOFFSETTO:+0100
TZNAME:CET
DTSTART:20171029T010000
END:STANDARD
END:VTIMEZONE
BEGIN:VEVENT
DTSTART;TZID=Europe/Stockholm:20170419T100000
DTEND;TZID=Europe/Stockholm:20170419T180000
DTSTAMP:20260420T171007
CREATED:20170130T123532Z
LAST-MODIFIED:20170412T100615Z
UID:11106-1492596000-1492624800@arkiv.gratisuppsala.se
SUMMARY:Konstutställning på Sigtunastiftelsen
DESCRIPTION:Konstutställning med verk av Bo Alström\nBo Alström har varit verksam som professionell konstnär sedan 1965 och hans fokus ligger på klassiskt oljemåleri. Hans teoretiska studier i Konstvetenskap vid Uppsala universitet ligger som grund för hans konstnärskap. \nBo har haft separatutställningar på flera orter i Sverige samt i Antibes\, vid Biennalen i Menton och i Luxemburg. Ett återkommande tema i hans måleri är människan i olika tider och epoker. Bo är född 1937 och lever och verkar i Sigtuna. \nTid och plats\n19 april-29 maj kl 9-17\nRosengårdssalen\, Sigtunastiftelsen \n\n”Om det väsentliga i konsten är ogripbart så är konstnärens samverkan med sin bild en väl\nså gåtfull företeelse. En klok man\, en kännare av bland annat kinesisk konst\, har sagt att\nmålningens verkliga innehåll är konstnärens själ\, inte ett avbildat träd eller landskap.\nOch så är det förvisso. Vad konstnären än målar\, hur han än organiserar färgerna på\nduken\, så redovisar han alltid – oftast omedvetet – en bild av sig själv\, sin uppfattning om\nlivet. På så sätt blir också det mest realistiska konstverk en spegling av ett inre skeende. När en pensel med färg träffar duken händer det något\, en stöt går från duken\, genom armen\, rakt in i känslolivet – processen är igång.”\nBo Alström \n Dela evenemanget
URL:https://arkiv.gratisuppsala.se/event/konstutstallning-pa-sigtunastiftelsen-bo-alstrom-ur-tidens-andedrakt/2017-04-19/
LOCATION:Sigtunastiftelsen\, Manfred Björkqvists allé 4\, Sigtuna
CATEGORIES:Konst, Fotografi och Design
ATTACH;FMTTYPE=image/jpeg:https://arkiv.gratisuppsala.se/wp-content/uploads/2017/01/Sigtunastiftelsen_ext02-e1509364496275.jpg
GEO:59.6158714;17.7101321
X-APPLE-STRUCTURED-LOCATION;VALUE=URI;X-ADDRESS=Sigtunastiftelsen Manfred Björkqvists allé 4 Sigtuna;X-APPLE-RADIUS=500;X-TITLE=Manfred Björkqvists allé 4:geo:17.7101321,59.6158714
END:VEVENT
END:VCALENDAR