BEGIN:VCALENDAR
VERSION:2.0
PRODID:-//Gratis Uppsala - ECPv5.2.1//NONSGML v1.0//EN
CALSCALE:GREGORIAN
METHOD:PUBLISH
X-WR-CALNAME:Gratis Uppsala
X-ORIGINAL-URL:https://arkiv.gratisuppsala.se
X-WR-CALDESC:Händelser för Gratis Uppsala
BEGIN:VTIMEZONE
TZID:Europe/Stockholm
BEGIN:DAYLIGHT
TZOFFSETFROM:+0100
TZOFFSETTO:+0200
TZNAME:CEST
DTSTART:20160327T010000
END:DAYLIGHT
BEGIN:STANDARD
TZOFFSETFROM:+0200
TZOFFSETTO:+0100
TZNAME:CET
DTSTART:20161030T010000
END:STANDARD
END:VTIMEZONE
BEGIN:VEVENT
DTSTART;TZID=Europe/Stockholm:20160930T090000
DTEND;TZID=Europe/Stockholm:20160930T180000
DTSTAMP:20260420T011104
CREATED:20161004T103243Z
LAST-MODIFIED:20161031T131139Z
UID:8554-1475226000-1475258400@arkiv.gratisuppsala.se
SUMMARY:Konstutställning Sigtunastiftelsen - Vävda valfrändskaper
DESCRIPTION:En utställning av Astrid Bäckström \, textil och bildkonstnär. Astrids Bäcktröms vävda konstnärsporträtt är ett urval av personer som står henne nära i sitt försvar av en humanistisk människosyn. Rosengårdssalen \nDela evenemanget
URL:https://arkiv.gratisuppsala.se/event/konstutstallning-sigtunastiftelsen-vavda-valfrandskaper/2016-09-30/
LOCATION:Sigtunastiftelsen\, Manfred Björkqvists allé 4\, Sigtuna\, 193 22
CATEGORIES:60+,Konst, Fotografi och Design
GEO:59.6158714;17.7101321
X-APPLE-STRUCTURED-LOCATION;VALUE=URI;X-ADDRESS=Sigtunastiftelsen Manfred Björkqvists allé 4 Sigtuna 193 22;X-APPLE-RADIUS=500;X-TITLE=Manfred Björkqvists allé 4:geo:17.7101321,59.6158714
END:VEVENT
END:VCALENDAR