BEGIN:VCALENDAR
VERSION:2.0
PRODID:-//Gratis Uppsala - ECPv5.2.1//NONSGML v1.0//EN
CALSCALE:GREGORIAN
METHOD:PUBLISH
X-WR-CALNAME:Gratis Uppsala
X-ORIGINAL-URL:https://arkiv.gratisuppsala.se
X-WR-CALDESC:Händelser för Gratis Uppsala
BEGIN:VTIMEZONE
TZID:Europe/Stockholm
BEGIN:DAYLIGHT
TZOFFSETFROM:+0100
TZOFFSETTO:+0200
TZNAME:CEST
DTSTART:20150329T010000
END:DAYLIGHT
BEGIN:STANDARD
TZOFFSETFROM:+0200
TZOFFSETTO:+0100
TZNAME:CET
DTSTART:20151025T010000
END:STANDARD
END:VTIMEZONE
BEGIN:VEVENT
DTSTART;TZID=Europe/Stockholm:20151101T130000
DTEND;TZID=Europe/Stockholm:20151014T140000
DTSTAMP:20260420T043755
CREATED:20151014T120218Z
LAST-MODIFIED:20151014T120218Z
UID:4151-1446382800-1444831200@arkiv.gratisuppsala.se
SUMMARY:Konstutställning - Vera Nilsson
DESCRIPTION:Vera Nilsson (1888-1979) vägrade att vara insmickrande. \nI sitt måleri värjde hon sig mot vaneseendet och fann sin egen väg med kubismen och expressionismen som klangbotten.\nOavsett motiv präglas hennes målningar av en intensitet och närvaro. Detta gör Vera Nilsson till en av 1900-talets stora svenska målare. \nGratis visningar varje söndag kl. 13. \nDela evenemanget
URL:https://arkiv.gratisuppsala.se/event/konstutstallning-vera-nilsson-3/
LOCATION:Bror Hjorths Hus\, Norbyvägen 26\, Uppsala\, 752 39\, Sverige
CATEGORIES:Konst, Fotografi och Design
ATTACH;FMTTYPE=image/jpeg:https://arkiv.gratisuppsala.se/wp-content/uploads/2015/10/300px-Vera_Nilsson_stormen.jpg
ORGANIZER;CN="Bror%20Hjorths%20Hus":MAILTO:info@brorhjorthshus.se
END:VEVENT
END:VCALENDAR