BEGIN:VCALENDAR
VERSION:2.0
PRODID:-//Gratis Uppsala - ECPv5.2.1//NONSGML v1.0//EN
CALSCALE:GREGORIAN
METHOD:PUBLISH
X-WR-CALNAME:Gratis Uppsala
X-ORIGINAL-URL:https://arkiv.gratisuppsala.se
X-WR-CALDESC:Händelser för Gratis Uppsala
BEGIN:VTIMEZONE
TZID:Europe/Stockholm
BEGIN:DAYLIGHT
TZOFFSETFROM:+0100
TZOFFSETTO:+0200
TZNAME:CEST
DTSTART:20180325T010000
END:DAYLIGHT
BEGIN:STANDARD
TZOFFSETFROM:+0200
TZOFFSETTO:+0100
TZNAME:CET
DTSTART:20181028T010000
END:STANDARD
END:VTIMEZONE
BEGIN:VEVENT
DTSTART;TZID=Europe/Stockholm:20180320T180000
DTEND;TZID=Europe/Stockholm:20180320T180000
DTSTAMP:20260420T102104
CREATED:20180207T103538Z
LAST-MODIFIED:20180207T103538Z
UID:22416-1521568800-1521568800@arkiv.gratisuppsala.se
SUMMARY:Konstvandring med tema demokrati
DESCRIPTION:Konstvandring med tema demokrati\n\n\nFlera av våra offentliga konstverk tar upp temat demokrati på olika sätt. Rätten att ha tillgång till litteratur\, kunna välja sitt eget liv\, och att fritt få uttrycka sig i ord och bild. Välkommen på en konstvandring genom centrala staden med Anna Ehn\, intendent för offentlig konst. \n\n\n\nTid och plats\nTisdag 20 mars 18.00 \nSamling i glasgården\, Stadsbiblioteket \nGratisbiljetter bokas i Stadsbibliotekets reception\, tel: 018-727 17 00 eller via kundtjanst@bibliotekuppsala.se och hämtas senast 30 minuter före programmets start. \nVandringen är en del av En vecka om demokrati och yttrandefrihet i Uppsala kommun \nBild från: pixabay.com \n\n  \n\n  \n\n Dela evenemanget
URL:https://arkiv.gratisuppsala.se/event/konstvandring-med-tema-demokrati/
LOCATION:Stadsbiblioteket\, Svartbäcksgatan 17\, Uppsala\, 75320\, Sverige
CATEGORIES:Konst, Fotografi och Design,Samhälle
ATTACH;FMTTYPE=image/jpeg:https://arkiv.gratisuppsala.se/wp-content/uploads/2017/01/konst-akryl-e1499175621892.jpg
GEO:59.8606206;17.6353278
X-APPLE-STRUCTURED-LOCATION;VALUE=URI;X-ADDRESS=Stadsbiblioteket Svartbäcksgatan 17 Uppsala 75320 Sverige;X-APPLE-RADIUS=500;X-TITLE=Svartbäcksgatan 17:geo:17.6353278,59.8606206
END:VEVENT
END:VCALENDAR